BEGIN:VCALENDAR
VERSION:2.0
PRODID:-//ChamberMaster//Event Calendar 2.0//EN
METHOD:PUBLISH
X-PUBLISHED-TTL:P3D
REFRESH-INTERVAL:P3D
CALSCALE:GREGORIAN
BEGIN:VEVENT
DTSTART:20160715T003000Z
DTEND:20160715T023000Z
X-MICROSOFT-CDO-ALLDAYEVENT:FALSE
SUMMARY:Design Professionals Council Meeting at Water Concepts
DESCRIPTION:Join us for an educational evening of BRIZO\n\nPlumbing see what's new and trending in\n\nluxury plumbing fixtures.\n\nGreat form is nothing without great functionality.\n\nAnd it's the simple truth that leads us to\n\ncontinually develop new technologies that\n\nredefine luxury in the kitchen\, bath and shower.\n\nJuly 14\, 2016\, 5:30 to 7:30 p.m.
X-ALT-DESC;FMTTYPE=text/html:<br />\nJoin us for an educational evening of BRIZO<br />\nPlumbing&mdash\;see what&rsquo\;s new and trending in<br />\nluxury plumbing fixtures.<br />\nGreat form is nothing without great functionality.<br />\nAnd it&rsquo\;s the simple truth that leads us to<br />\ncontinually develop new technologies that<br />\nredefine luxury in the kitchen\, bath and shower.<br />\nJuly 14\, 2016\, 5:30 to 7:30 p.m.
LOCATION:
UID:e.9280.1217
SEQUENCE:3
DTSTAMP:20260423T010642Z
URL:https://members.masterbuilderspierce.com/events/details/design-professionals-council-meeting-at-water-concepts-07-14-2016-1217
END:VEVENT

END:VCALENDAR
