BEGIN:VCALENDAR
VERSION:2.0
PRODID:-//ChamberMaster//Event Calendar 2.0//EN
METHOD:PUBLISH
X-PUBLISHED-TTL:P3D
REFRESH-INTERVAL:P3D
CALSCALE:GREGORIAN
BEGIN:VEVENT
DTSTART:20180209T013000Z
DTEND:20180209T033000Z
X-MICROSOFT-CDO-ALLDAYEVENT:FALSE
SUMMARY:Design Professionals Council Meeting at Wane + Flitch
DESCRIPTION:The Design Professionals Council will be meeting at Wane + Flitch for a look at their exquisite "live edge" wood furniture. \n\n\n\nThere will be dinner\, drinks and a raffle. $10 per person.
X-ALT-DESC;FMTTYPE=text/html:The Design Professionals Council will be meeting at Wane + Flitch for a look at their exquisite &quot\;live edge&quot\; wood furniture.&nbsp\;<br />\n<br />\nThere will be dinner\, drinks and a raffle. $10 per person.&nbsp\;
LOCATION:Wane + Flitch 701 E 72nd St. Tacoma\, WA 98404
UID:e.9280.1236
SEQUENCE:3
DTSTAMP:20260421T195439Z
URL:https://members.masterbuilderspierce.com/events/details/design-professionals-council-meeting-at-wane-flitch-1236
END:VEVENT

END:VCALENDAR
