BEGIN:VCALENDAR
VERSION:2.0
PRODID:-//ChamberMaster//Event Calendar 2.0//EN
METHOD:PUBLISH
X-PUBLISHED-TTL:P3D
REFRESH-INTERVAL:P3D
CALSCALE:GREGORIAN
BEGIN:VEVENT
DTSTART:20190712T003000Z
DTEND:20190712T023000Z
X-MICROSOFT-CDO-ALLDAYEVENT:FALSE
SUMMARY:Design Professionals Council Meeting at Specialty Home Design
DESCRIPTION:Please join us this month at Specialty Home Design for July's Design Professionals Council meeting!\n\n\n\nFood and beverage will be provided. A rep from Rev-A-Shelf will be presenting about their specialty in cabinet accessories\, cabinet lighting and some closet accessories. \n\n\n\n"Our Product line began as metal and polymer Lazy Susan components manufactured for the largest U.S. cabinet manufacturers and has grown into the market leading innovator of quality\, functional residential cabinet storage and organizational products such as Lazy Susans\, Kitchen Drawer Organizers\, Base Cabinet and Pantry Pull-Outs\, functional Waste Containers\, LED lighting systems and Childproof Locking System. Our worldwide presence extends from the U.S. to Europe\, Asia\, and Mexico\, with factories\, warehouses and satellite offices strategically located to serve an expanding customer base of kitchen dealers\, architects\, furniture manufactures\, cabinet industry distributors and retail home centers worldwide."\n\n\n\nYou won't want to miss it!
X-ALT-DESC;FMTTYPE=text/html:Please join us this month at Specialty Home Design for July&#39\;s Design Professionals Council meeting!<br />\n<br />\nFood and beverage will be provided. A rep from Rev-A-Shelf will be presenting about their specialty in cabinet accessories\, cabinet lighting and some closet accessories.&nbsp\;<br />\n<br />\n<em>&quot\;Our Product line began as metal and polymer Lazy Susan components manufactured for the largest U.S. cabinet manufacturers and has grown into the market leading innovator of quality\, functional residential cabinet storage and organizational products such as Lazy Susans\, Kitchen Drawer Organizers\, Base Cabinet and Pantry Pull-Outs\, functional Waste Containers\, LED lighting systems and Childproof Locking System. Our worldwide presence extends from the U.S. to Europe\, Asia\, and Mexico\, with factories\, warehouses and satellite offices strategically located to serve an expanding customer base of kitchen dealers\, architects\, furniture manufactures\, cabinet industry distributors and retail home centers worldwide.&quot\;</em><br />\n<br />\nYou won&#39\;t want to miss it!
LOCATION:Specialty Home Design 7017 27th St. West Suite 3 University Place\, WA 98466
UID:e.9280.1253
SEQUENCE:3
DTSTAMP:20260421T141024Z
URL:https://members.masterbuilderspierce.com/events/details/design-professionals-council-meeting-at-specialty-home-design-1253
END:VEVENT

END:VCALENDAR
