BEGIN:VCALENDAR
VERSION:2.0
PRODID:-//ChamberMaster//Event Calendar 2.0//EN
METHOD:PUBLISH
X-PUBLISHED-TTL:P3D
REFRESH-INTERVAL:P3D
CALSCALE:GREGORIAN
BEGIN:VEVENT
DTSTART:20180112T013000Z
DTEND:20180112T033000Z
X-MICROSOFT-CDO-ALLDAYEVENT:FALSE
SUMMARY:Design Professionals Council Meeting at South Sound Magazine
DESCRIPTION:Join the Design Professionals Council for their monthly meeting\, featuring guest speaker\, Josh Dunn of Premier Media and South Sound Magazine.
X-ALT-DESC;FMTTYPE=text/html:Join the Design Professionals Council for their monthly meeting\, featuring guest speaker\, Josh Dunn of Premier Media and South Sound Magazine.&nbsp\;&nbsp\;
LOCATION:South Sound Magazine 2112 N 30th St. A Tacoma\, WA 98403
UID:e.9280.1235
SEQUENCE:3
DTSTAMP:20260421T212400Z
URL:https://members.masterbuilderspierce.com/events/details/design-professionals-council-meeting-at-south-sound-magazine-1235
END:VEVENT

END:VCALENDAR
