BEGIN:VCALENDAR
VERSION:2.0
PRODID:-//ChamberMaster//Event Calendar 2.0//EN
METHOD:PUBLISH
X-PUBLISHED-TTL:P3D
REFRESH-INTERVAL:P3D
CALSCALE:GREGORIAN
BEGIN:VEVENT
DTSTART:20170113T013000Z
DTEND:20170113T033000Z
X-MICROSOFT-CDO-ALLDAYEVENT:FALSE
SUMMARY:Design Professionals Council Meeting at Real Carriage Door Company
DESCRIPTION:You are invited to the first DPC meeting of 2017 at MBA Pierce member's Real Carriage Door Company!\n\n\n\nClients asking for barn doors? Get in the know with Real Carriage Door Company\, our local supplier. They will share with us all the ins and outs of barn doors\, garage doors\, hardware and a variety of options they can provide for us!\n\n\n\nFood & Refreshments provided.
X-ALT-DESC;FMTTYPE=text/html:You are invited to the first DPC meeting of 2017 at MBA Pierce member&#39\;s Real Carriage Door Company!<br />\n<br />\nClients asking for barn doors? Get in the know with <em><strong>Real Carriage Door Company</strong></em>\, our local supplier. They will share with us all the ins and outs of barn doors\, garage doors\, hardware and a variety of options they can provide for us!<br />\n<br />\nFood &amp\; Refreshments provided.
LOCATION:Real Carriage Door Company 9803 44th Ave NW Gig Harbor\, WA 98332
UID:e.9280.1223
SEQUENCE:3
DTSTAMP:20260422T155435Z
URL:https://members.masterbuilderspierce.com/events/details/design-professionals-council-meeting-at-real-carriage-door-company-1223
END:VEVENT

END:VCALENDAR
