BEGIN:VCALENDAR
VERSION:2.0
PRODID:-//ChamberMaster//Event Calendar 2.0//EN
METHOD:PUBLISH
X-PUBLISHED-TTL:P3D
REFRESH-INTERVAL:P3D
CALSCALE:GREGORIAN
BEGIN:VEVENT
DTSTART:20171110T013000Z
DTEND:20171110T033000Z
X-MICROSOFT-CDO-ALLDAYEVENT:FALSE
SUMMARY:Design Professionals Council Meeting at Olympic Landscape & Irrigation
DESCRIPTION:Join the Design Professionals Council for a special "almost" holiday meeting at long-time members Olympic Landscape & Irrigation!
X-ALT-DESC;FMTTYPE=text/html:Join the Design Professionals Council for a special &quot\;almost&quot\; holiday meeting at long-time members Olympic Landscape &amp\; Irrigation!
LOCATION:Olympic Landscape & Irrigation 5620 112th St E\, #230 Puyallup\, WA 98373
UID:e.9280.1233
SEQUENCE:3
DTSTAMP:20260422T005220Z
URL:https://members.masterbuilderspierce.com/events/details/design-professionals-council-meeting-at-olympic-landscape-irrigation-1233
END:VEVENT

END:VCALENDAR
