BEGIN:VCALENDAR
VERSION:2.0
PRODID:-//ChamberMaster//Event Calendar 2.0//EN
METHOD:PUBLISH
X-PUBLISHED-TTL:P3D
REFRESH-INTERVAL:P3D
CALSCALE:GREGORIAN
BEGIN:VEVENT
DTSTART:20170310T013000Z
DTEND:20170310T033000Z
X-MICROSOFT-CDO-ALLDAYEVENT:FALSE
SUMMARY:Design Professionals Council Meeting at Keller Supply Tacoma
DESCRIPTION:Join the DPC on Thursday\, March 9 for an educational event at Keller Supply Company - Tacoma. Tons of product to look at and meet one of their special vendors!
X-ALT-DESC;FMTTYPE=text/html:Join the DPC on Thursday\, March 9 for an educational event at Keller Supply Company - Tacoma. Tons of product to look at and meet one of their special vendors!&nbsp\;
LOCATION:Keller Supply Company - Tacoma Showroom 3620 S Cedar St Tacoma\, WA 98409
UID:e.9280.1225
SEQUENCE:3
DTSTAMP:20260422T130102Z
URL:https://members.masterbuilderspierce.com/events/details/design-professionals-council-meeting-at-keller-supply-tacoma-1225
END:VEVENT

END:VCALENDAR
