BEGIN:VCALENDAR
VERSION:2.0
PRODID:-//ChamberMaster//Event Calendar 2.0//EN
METHOD:PUBLISH
X-PUBLISHED-TTL:P3D
REFRESH-INTERVAL:P3D
CALSCALE:GREGORIAN
BEGIN:VEVENT
DTSTART:20170512T003000Z
DTEND:20170512T023000Z
X-MICROSOFT-CDO-ALLDAYEVENT:FALSE
SUMMARY:Design Professionals Council Meeting at Cupboard & Clay
DESCRIPTION:Cupboard & Clay invites the Design Professionals Council for an evening to meet\, mingle and learn about the offerings from Cupboard & Clay. \n\n\n\nA short presentation about handmade tile will be provided by Kayron Brewer\, CKD CBD.
X-ALT-DESC;FMTTYPE=text/html:<span style="font-size:18px\;">Cupboard &amp\; Clay invites the Design Professionals Council for an evening to meet\, mingle and learn about the offerings from Cupboard &amp\; Clay.&nbsp\;<br />\n<br />\nA short presentation about handmade tile will be provided by Kayron Brewer\, CKD CBD.&nbsp\;</span>
LOCATION:Cupboard & Clay 2225 N 30th St Tacoma\, WA 98403
UID:e.9280.1227
SEQUENCE:3
DTSTAMP:20260422T100848Z
URL:https://members.masterbuilderspierce.com/events/details/design-professionals-council-meeting-at-cupboard-clay-1227
END:VEVENT

END:VCALENDAR
