BEGIN:VCALENDAR
VERSION:2.0
PRODID:-//ChamberMaster//Event Calendar 2.0//EN
METHOD:PUBLISH
X-PUBLISHED-TTL:P3D
REFRESH-INTERVAL:P3D
CALSCALE:GREGORIAN
BEGIN:VEVENT
DTSTART:20181012T003000Z
DTEND:20181012T023000Z
X-MICROSOFT-CDO-ALLDAYEVENT:FALSE
SUMMARY:Design Professionals Council Meeting at CFM - TACOMA
DESCRIPTION:Join the Design Professionals Council for their annual Roundtable meeting hosted by Contract Furnishings Mart. Don't miss your chance to speak with Peter Goodwin from Systematic Supply as well as reps from BIAW and artist Nola Tresslar.\n\n\n\nNola Tresslar Statement: Art has always been a passion of mine.  I love the many facets I can explore in the Sumi\, Collage\, recycled Mixed Media\, printmaking and medium I call Zen Art .  When I am painting I try to infuse my personal energy\, spirituality and inspiration into my art.  My inspiration may come from something I've seen\, heard or felt.  Abstract paintings\, recycled Mixed Media\, and collages are my favorite areas\, because of my love of texture\, handmade papers and found objects that can be incorporated into a piece of art.  I enjoy using Sumi ink in traditional Asian paintings and also I find it interesting to find new ways and methods to mix this ancient medium with other mediums.\n\n "Life Happens!"  ---  "Suffering is Optional"  Nola V. Tresslar
X-ALT-DESC;FMTTYPE=text/html:<span style="font-size: 12px\;"><span style="color: rgb(51\, 51\, 51)\; background-color: rgb(255\, 255\, 255)\;">Join the Design Professionals Council for their annual Roundtable meeting hosted by Contract Furnishings Mart. Don&#39\;t miss your chance to speak </span><span style="background-color: rgb(255\, 255\, 255)\;">with Peter Goodwin from Systematic Supply</span>&nbsp\;as well as reps from BIAW and artist Nola Tresslar.<br />\n<br />\nNola Tresslar Statement:&nbsp\;Art has always been a passion of mine.&nbsp\; I love the many facets I can explore in the Sumi\, Collage\, recycled Mixed Media\, printmaking and medium I call Zen Art<strong>&copy\;</strong>.&nbsp\; When I am painting I try to infuse my personal energy\, spirituality and inspiration into my art.&nbsp\; My inspiration may come from something I&rsquo\;ve seen\, heard or felt.&nbsp\; Abstract paintings\, recycled Mixed Media\, and collages are my favorite areas\, because of my love of texture\, handmade papers and found objects that can be incorporated into a piece of art.&nbsp\; I enjoy using Sumi ink in traditional Asian paintings and also I find it interesting to find new ways and methods to mix this ancient medium with other mediums.</span><br />\n&nbsp\;<strong><span style="font-size: 12pt\;">&ldquo\;Life Happens!&rdquo\;&nbsp\; ---&nbsp\; &ldquo\;Suffering is Optional&rdquo\;&hellip\;&hellip\;Nola V. Tresslar</span></strong>
LOCATION:Contract Furnishings Mart TACOMA LOCATION! 6305 - 6th Avenue Tacoma\, WA
UID:e.9280.1244
SEQUENCE:3
DTSTAMP:20260421T085132Z
URL:https://members.masterbuilderspierce.com/events/details/design-professionals-council-meeting-at-cfm-tacoma-1244
END:VEVENT

END:VCALENDAR
