BEGIN:VCALENDAR
VERSION:2.0
PRODID:-//ChamberMaster//Event Calendar 2.0//EN
METHOD:PUBLISH
X-PUBLISHED-TTL:P3D
REFRESH-INTERVAL:P3D
CALSCALE:GREGORIAN
BEGIN:VEVENT
DTSTART:20180412T230000Z
DTEND:20180413T030000Z
X-MICROSOFT-CDO-ALLDAYEVENT:FALSE
SUMMARY:Design Professionals Council Meeting at Ann Sacks Tile & Stone
DESCRIPTION:Join the Design Professionals Council for their monthly meeting on Thursday\, April 12 at Ann Sacks Tile & Stone in Seattle. For this meeting\, the committee will be taking a shuttle from Stanley and Seafort's at 4:00 p.m. and riding to Ann Sacks Seattle Showroom for appetizers and drinks.\n\n\n\nThere will be a non-hosted dinner at Stanely & Seafort's when the shuttle returns. \n\n\n\nDon't miss your chance to see the exquisite showcase including the new alabaster stone collection\, kitchen and bath room designs. To help curb the shuttle cost\, this meeting will be $20.
X-ALT-DESC;FMTTYPE=text/html:Join the Design Professionals Council&nbsp\;for their monthly meeting on Thursday\, April 12 at Ann Sacks Tile &amp\; Stone in Seattle. For this meeting\, the committee will be taking a shuttle from Stanley and Seafort&#39\;s&nbsp\;at 4:00 p.m. and riding to Ann Sacks Seattle Showroom for appetizers and drinks.<br />\n<br />\nThere will be a non-hosted dinner at Stanely&nbsp\;&amp\; Seafort&#39\;s&nbsp\;when the shuttle returns.&nbsp\;<br />\n<br />\nDon&#39\;t miss your chance to see the exquisite showcase including the new alabaster stone collection\, kitchen and bath room designs. To help curb the shuttle cost\, this meeting will be $20.&nbsp\;
LOCATION:Shuttle Meetup: Stanley and Seafort's 115 E 34th St.\, Tacoma\, WA 98404 Event Location: Ann Sacks Tile & Stone 2201 Westlake Ave Seattle\, WA 98121
UID:e.9280.1238
SEQUENCE:3
DTSTAMP:20260421T171409Z
URL:https://members.masterbuilderspierce.com/events/details/design-professionals-council-meeting-at-ann-sacks-tile-stone-1238
END:VEVENT

END:VCALENDAR
