BEGIN:VCALENDAR
VERSION:2.0
PRODID:-//ChamberMaster//Event Calendar 2.0//EN
METHOD:PUBLISH
X-PUBLISHED-TTL:P3D
REFRESH-INTERVAL:P3D
CALSCALE:GREGORIAN
BEGIN:VEVENT
DTSTART:20170414T003000Z
DTEND:20170414T024500Z
X-MICROSOFT-CDO-ALLDAYEVENT:FALSE
SUMMARY:Design Professionals Council Meeting at 2 Ravens Studio
DESCRIPTION:Join us Thursday\, April 13th for a NO CHARGE  tour of 2 Ravens Studio's foundry facility. After the tour\, we will be heading to the Old Spaghetti Factory in Downtown Tacoma for a no host dinner and networking meeting.\n\n\n\nWe encourage everyone to join us for networking\, dinner/drinks\, where our monthly meeting will resume! \n\n\n\n2 Ravens Studio produces sculptures for artists working in stone\, wood\, clay and a variety of other mediums. 2 Ravens Studio also creates original works of art for public display and private residences\, as well as custom architectural fixtures. Our list of clients ranges from contemporary artists to corporations\, museums and designers.\n\n\n\nWe cast in bronze\, aluminum and resin and are skilled at creating aged or distressed finishes on a variety of metal surfaces. Our team of artisans also has the ability to work in fiberglass to create novelty signs as well as sculpt and mold various types of reproductive works or fabricate new ones.
X-ALT-DESC;FMTTYPE=text/html:Join us Thursday\, April 13th for a <strong><u>NO </u></strong><strong><u>CHARGE</u>&#8203\;</strong>&nbsp\;tour of 2 Ravens Studio&#39\;s foundry facility. After the tour\, we will be heading to the Old Spaghetti Factory in Downtown Tacoma for a <u>no host</u>&nbsp\;dinner and networking meeting.<br />\n<br />\nWe encourage everyone to join us for networking\, dinner/drinks\, where our monthly meeting will resume!&nbsp\;<br />\n<br />\n2 Ravens Studio produces sculptures for artists working in stone\, wood\, clay and a variety of other mediums. 2 Ravens Studio also creates original works of art for public display and private residences\, as well as custom architectural fixtures. Our list of clients ranges from contemporary artists to corporations\, museums and designers.<br />\n<br />\nWe cast in bronze\, aluminum and resin and are skilled at creating aged or distressed finishes on a variety of metal surfaces. Our team of artisans also has the ability to work in fiberglass to create novelty signs as well as sculpt and mold various types of reproductive works or fabricate new ones.
LOCATION:Tour 2 Ravens Studio foundry 2502 Commerce St Tacoma\, WA 98402 Dinner/Networking Meeting The Old Spaghetti Factory 1250 Pacific Ave\, Ste 101 Tacoma\, WA 98402
UID:e.9280.1226
SEQUENCE:3
DTSTAMP:20260422T112921Z
URL:https://members.masterbuilderspierce.com/events/details/design-professionals-council-meeting-at-2-ravens-studio-1226
END:VEVENT

END:VCALENDAR
