BEGIN:VCALENDAR
VERSION:2.0
PRODID:-//ChamberMaster//Event Calendar 2.0//EN
METHOD:PUBLISH
X-PUBLISHED-TTL:P3D
REFRESH-INTERVAL:P3D
CALSCALE:GREGORIAN
BEGIN:VEVENT
DTSTART:20160610T003000Z
DTEND:20160610T023000Z
X-MICROSOFT-CDO-ALLDAYEVENT:FALSE
SUMMARY:Design Professionals Council Meeting - Architectural Walking Tour
DESCRIPTION:Cost $10 Meet at Brandy's Attic -  755 Broadway\, the tour leaves promptly at 5:45 so don't be late!!  This is a guided 90 minute architectural walking tour featuring the amazing buildings in Tacoma  tales of hauntings\, hexes and a mummy's curse!  It's an easy walking tour with lots of stops along the way.  Come join us and learn what our city is all about and the history behind it!\n\nAfter the tour we can enjoy some no host food and drink in one of Tacoma's local establishments for anyone interested!\n\nSign up today\, this will be fun and educational.
X-ALT-DESC;FMTTYPE=text/html:<strong style="line-height: 20.8px\;"><span style="font-size: 14pt\;">Cost $10&mdash\;Meet at Brandy&#39\;s Attic -&nbsp\; 755 Broadway\, the tour leaves promptly at 5:45 so don&rsquo\;t be late!!&nbsp\; This is a guided 90 minute architectural walking tour featuring the amazing buildings in Tacoma&mdash\; tales of&nbsp\;hauntings\, hexes and a mummy&#39\;s curse!&nbsp\; It&rsquo\;s an easy walking tour with lots of stops along the way.&nbsp\; Come join us and learn what our city is all about and the history behind it!</span></strong><br style="line-height: 20.8px\;" />\n<strong style="line-height: 20.8px\;"><span style="font-size: 14pt\;">After the tour we can enjoy some no host food and drink in one of Tacoma&rsquo\;s local&nbsp\;establishments for anyone interested!</span></strong><br style="line-height: 20.8px\;" />\n<strong style="line-height: 20.8px\;"><em><span style="color: red\;"><span style="font-size: 18pt\;">Sign up today\, this will be fun and educational.</span></span></em></strong>
LOCATION:
UID:e.9280.1216
SEQUENCE:3
DTSTAMP:20260423T040922Z
URL:https://members.masterbuilderspierce.com/events/details/design-professionals-council-meeting-architectural-walking-tour-06-09-2016-1216
END:VEVENT

END:VCALENDAR
