BEGIN:VCALENDAR
VERSION:2.0
PRODID:-//ChamberMaster//Event Calendar 2.0//EN
METHOD:PUBLISH
X-PUBLISHED-TTL:P3D
REFRESH-INTERVAL:P3D
CALSCALE:GREGORIAN
BEGIN:VEVENT
DTSTART:20180914T003000Z
DTEND:20180914T023000Z
X-MICROSOFT-CDO-ALLDAYEVENT:FALSE
SUMMARY:Design Professionals Council Meeting
DESCRIPTION:Join us for the September Design Professionals Council meeting! \n\n\n\nIf you have received the other email directly from Selden's please be sure that you register here.\n\n\n\nThis month we'll be visiting Selden's Designer Home Furnishings where we will be meeting in the Drapery Department promptly at 5:30pm for the meeting before having the opportunity to hear from speaker Judith A. Neary\, CMKBD about finding your zone of genius in our shifting culture.  \n\n\n\nBeyond Design: Finding Your Zone of Genius \n\nIn today's market\, design professionals have less control over projects\; homeowners are using digital inspiration to create their own lookbooks\, do-it-yourself layout software\, and purchasing products online. You\, as the professional may be struggling with aligning your established business model to this changing cultural shift. This presentation will help you discover your "Zone of Genius" and create a business profile that includes an ideal client psychographic and service offering that aligns to your professional skill sets. \n\n\n\nAbout Judith\n\nJudith A. Neary is a Certified Master Kitchen and Bath Designer (CMKBD) with experience in commercial\, hospitality\, medical\, and residential design. Judith is a frequent contributor to trade publications and the industry by writing and speaking on various topics of interest for both design professional and homeowner. As one of the professional instructors for the National Kitchen & Bath Association (NKBA)\, she offers a comprehensive learning experience. With the Vashon Island community considered home\, she is known for doing "weird" really well and her design practice celebrates the eclectic arts and food-avore culture. \n\n\n\nDon't miss out on this fun and productive evening with the Design Professionals Council - sign up to attend today!
X-ALT-DESC;FMTTYPE=text/html:<span style="color: rgb(51\, 51\, 51)\; font-family: arial\; font-size: 13px\; background-color: rgb(255\, 255\, 255)\;">Join us for the September Design Professionals Council meeting!&nbsp\;<br />\n<br />\n<strong><u>If you have received the other email directly from Selden&#39\;s please be sure that you register here.</u></strong><br />\n<br />\nThis month we&#39\;ll be visiting Selden&#39\;s Designer Home Furnishings where we will be meeting in the Drapery Department promptly&nbsp\;at 5:30pm for the meeting before having the&nbsp\;opportunity to hear from speaker Judith A. Neary\, CMKBD about finding your zone of genius in our shifting culture.&nbsp\;</span><span style="background-color: rgb(255\, 255\, 255)\;"><font color="#333333" face="arial"><span style="font-size: 13px\;">&nbsp\;</span></font></span><br />\n<br />\n<span style="color: rgb(51\, 51\, 51)\; font-family: arial\; font-size: 13px\; background-color: rgb(255\, 255\, 255)\;"><u><strong>Beyond Design: Finding Your Zone of Genius&nbsp\;</strong></u><br />\n<em>In today&#39\;s market\, design professionals have less control over projects\; homeowners are using digital inspiration to create their own lookbooks\, do-it-yourself layout software\, and purchasing products online. You\, as the professional may be struggling with aligning your established business model to this changing cultural shift. This presentation will help you discover your &quot\;Zone of Genius&quot\; and create a business profile that includes an ideal client psychographic and service offering that aligns to your professional skill sets.&nbsp\;</em><br />\n<br />\n<u><strong>About Judith</strong></u><br />\n<em>Judith A. Neary is a Certified Master Kitchen and Bath Designer (CMKBD) with experience in commercial\, hospitality\, medical\, and residential design. Judith is a frequent contributor to trade publications and the industry by writing and speaking on various topics of interest for both design professional and homeowner. As one of the professional instructors for the National Kitchen &amp\; Bath Association (NKBA)\, she offers a comprehensive learning experience. With the Vashon Island community considered home\, she is known for doing &quot\;weird&quot\; really well and her design practice celebrates the eclectic arts and food-avore culture.&nbsp\;</em></span><br />\n<br />\n<span style="color: rgb(51\, 51\, 51)\; font-family: arial\; font-size: 13px\; background-color: rgb(255\, 255\, 255)\;">Don&#39\;t miss out on this fun and productive evening with the Design Professionals Council - sign up to attend today!&nbsp\;</span><br />\n<br />\n&nbsp\;
LOCATION:Selden's Designer Home Furnishings 1802 62nd Ave E\, Tacoma\, WA 98424
UID:e.9280.1243
SEQUENCE:3
DTSTAMP:20260421T114019Z
URL:https://members.masterbuilderspierce.com/events/details/design-professionals-council-meeting-09-13-2018-1243
END:VEVENT

END:VCALENDAR
