BEGIN:VCALENDAR
VERSION:2.0
PRODID:-//ChamberMaster//Event Calendar 2.0//EN
METHOD:PUBLISH
X-PUBLISHED-TTL:P3D
REFRESH-INTERVAL:P3D
CALSCALE:GREGORIAN
BEGIN:VEVENT
DTSTART:20160909T003000Z
DTEND:20160909T023000Z
X-MICROSOFT-CDO-ALLDAYEVENT:FALSE
SUMMARY:Design Professionals Council Meeting
DESCRIPTION:Come see what is new in custom cabinet Components and new contemporary cabinet building materials! There will be displays from Brown Wood Inc.\, EB Bradley\, Richelieu and others. Also debuting: our new semi-custom line of cabinets from Waypoint. Be among the first to see our newly remodeled showroom.
X-ALT-DESC;FMTTYPE=text/html:Come see what is new in custom cabinet Components and new contemporary cabinet building materials! There will be displays from Brown Wood Inc.\, EB Bradley\, Richelieu and others. Also debuting: our new semi-custom line of cabinets from Waypoint. Be among the first to see our newly remodeled showroom.
LOCATION:Hyland Cabinetworks 36930 8th Ave S\, Federal Way\, WA 98003
UID:e.9280.1219
SEQUENCE:3
DTSTAMP:20260422T215718Z
URL:https://members.masterbuilderspierce.com/events/details/design-professionals-council-meeting-09-08-2016-1219
END:VEVENT

END:VCALENDAR
