BEGIN:VCALENDAR
VERSION:2.0
PRODID:-//ChamberMaster//Event Calendar 2.0//EN
METHOD:PUBLISH
X-PUBLISHED-TTL:P3D
REFRESH-INTERVAL:P3D
CALSCALE:GREGORIAN
BEGIN:VEVENT
DTSTART:20170714T003000Z
DTEND:20170714T020000Z
X-MICROSOFT-CDO-ALLDAYEVENT:FALSE
SUMMARY:Design Professionals Council Meeting
DESCRIPTION:Tiny House Living Up Close!\n\n\n\nJoin the Design Professionals Council for a short meeting and a very special tour of the ASID Container House! This local\, award-winning* project is right here in our backyard in the Water Concepts parking lot. Karen Hirschman (Karen Hirschman Designs Inc) and Nancy Finneson (DeMane Design) will be talking about the process of building and designing this unique new project.  \n\n\n\nWe will have a brief meeting\, tour and beer & brats (plus some other good stuff!) for attendees. We hope to see you there!\n\n\n\n*Project has been awarded a MBA Pierce Remodeling Excellence Award AND a State Building Industry Association Excellence in Remodeling Award. \n\n\n\nBe sure to bring some cash ... Crescent Lighting Supply will be supplying the raffle prize!
X-ALT-DESC;FMTTYPE=text/html:Tiny House Living Up Close!<br />\n<br />\nJoin the Design Professionals Council for a short meeting and a very special tour of the ASID&nbsp\;Container House! This local\, award-winning* project is right here in our backyard in the Water Concepts parking lot. Karen Hirschman&nbsp\;(Karen Hirschman&nbsp\;Designs Inc) and Nancy Finneson&nbsp\;(DeMane Design) will be talking about the process of building and designing this unique new project.&nbsp\;&nbsp\;<br />\n<br />\nWe will have a brief meeting\, tour and beer &amp\; brats (plus some other good stuff!) for attendees. We hope to see you there!<br />\n<br />\n*Project has been awarded a MBA Pierce Remodeling Excellence Award AND a State Building Industry Association Excellence in Remodeling Award.&nbsp\;<br />\n<br />\nBe sure to bring some cash ... Crescent Lighting Supply will be supplying the raffle prize!
LOCATION:Water Concepts Parking Lot 3505 South Tacoma Way Tacoma\, WA 98409
UID:e.9280.1229
SEQUENCE:3
DTSTAMP:20260422T070133Z
URL:https://members.masterbuilderspierce.com/events/details/design-professionals-council-meeting-07-13-2017-1229
END:VEVENT

END:VCALENDAR
