BEGIN:VCALENDAR
VERSION:2.0
PRODID:-//ChamberMaster//Event Calendar 2.0//EN
METHOD:PUBLISH
X-PUBLISHED-TTL:P3D
REFRESH-INTERVAL:P3D
CALSCALE:GREGORIAN
BEGIN:VEVENT
DTSTART:20180713T003000Z
DTEND:20180713T023000Z
X-MICROSOFT-CDO-ALLDAYEVENT:FALSE
SUMMARY:Design Professionals Council Meeting
DESCRIPTION:Join us for the July Design Professionals Council meeting! This month we'll be visiting Tree at the NEW Ruston Way location! Owner - Nicole Wakley will be speaking and they will be hosting with wine and appetizers.\n\n\n\nhttps://tree.co/\n\n\n\nIn 2005\, TREE planted its roots in Hong Kong\, with a vision to bring together contemporary design and traditional handcraftsmanship and create timeless furniture made to last lifetimes.  From the seed of an idea\, TREE has budded into a one-stop destination for sustainable style\, offering naturally beautiful eco-chic furnishings and finishing touches lovingly made "from the heart".\n\n \n"TREE has taken root in the Pacific NW and begun a new story of budding and branching out\, in eco-chic style. Nicole launched TREE in the fall\, opening its flagship gallery to the Tacoma community in a renovated heritage building in the brewery district. Since then TREE has branched out to the city of Bellevue\, with a buzzing boutique in the Design Market there. And now\, Nicole is especially excited to announce the opening of their third store this weekend in Point Ruston Waterfront. TREE is privileged to open its doors in the waterfront village and make new lasting connections in this community." -TNT
X-ALT-DESC;FMTTYPE=text/html:<span style="font-family:arial\;"><span style="color: rgb(51\, 51\, 51)\; background-color: rgb(255\, 255\, 255)\;">Join us for the July Design Professionals Council meeting! This month we&#39\;ll be visiting Tree at the&nbsp\;NEW Ruston Way location!&nbsp\;</span><span style="font-size:11.0pt\;">Owner - Nicole Wakley will be speaking and they will be hosting with wine and appetizers.</span><br />\n<br />\nhttps://tree.co/<br />\n<br />\n<span style="color: rgb(102\, 102\, 102)\; font-size: 18px\; background-color: rgb(255\, 255\, 255)\;">In 2005\, TREE planted its roots in Hong Kong\, with a vision to bring together contemporary design and traditional handcraftsmanship and create timeless furniture made to last lifetimes. &nbsp\;From the seed of an idea\, TREE has budded into a one-stop destination for sustainable style\, offering naturally beautiful eco-chic furnishings and finishing touches lovingly made &ldquo\;from the heart&rdquo\;.</span></span><br />\n&nbsp\;\n<div><span style="font-family:arial\;">&quot\;TREE has taken root in the Pacific NW and begun a new story of budding and branching out\, in eco-chic style. Nicole launched TREE in the fall\, opening its flagship gallery to the Tacoma community in a renovated heritage building in the brewery district. Since then TREE has branched out to the city of Bellevue\, with a buzzing boutique in the Design Market there. And now\, Nicole is especially excited to announce the opening of their&nbsp\;third store this weekend in Point Ruston&nbsp\;Waterfront. TREE is privileged to open its doors in the waterfront village and make new lasting connections in this community.&quot\; -TNT</span></div>\n
LOCATION:Tree - NEW Location! 5111 Grand Loop #1A Tacoma\, WA 98407
UID:e.9280.1241
SEQUENCE:3
DTSTAMP:20260421T124441Z
URL:https://members.masterbuilderspierce.com/events/details/design-professionals-council-meeting-07-12-2018-1241
END:VEVENT

END:VCALENDAR
