BEGIN:VCALENDAR
VERSION:2.0
PRODID:-//ChamberMaster//Event Calendar 2.0//EN
METHOD:PUBLISH
X-PUBLISHED-TTL:P3D
REFRESH-INTERVAL:P3D
CALSCALE:GREGORIAN
BEGIN:VEVENT
DTSTART:20180615T003000Z
DTEND:20180615T023000Z
X-MICROSOFT-CDO-ALLDAYEVENT:FALSE
SUMMARY:Design Professionals Council Meeting
DESCRIPTION:Join us for the June Design Professionals Council meeting! This month we'll be visiting Hope Furnishings. \n\n\n\nHope Furnishings is the retail program of NW Furniture Bank. Open to the public\, this program generates revenue to fund the organizations mission of restoring hope\, dignity and stability to our community by recycling donated furniture to families in need. Each month NW Furniture Bank assists over 140 local families with their furniture needs\, transforming empty rooms into homes.
X-ALT-DESC;FMTTYPE=text/html:<span style="color: rgb(51\, 51\, 51)\; font-family: verdana\; font-size: 12px\; background-color: rgb(255\, 255\, 255)\;">Join us for the June Design Professionals Council meeting! This month we&#39\;ll be visiting Hope Furnishings.&nbsp\;</span><br />\n<br />\nHope Furnishings is the retail program of NW Furniture Bank. Open to the public\, this program generates revenue to fund the organizations mission of restoring hope\, dignity and stability to our community by recycling donated furniture to families in need. Each month NW Furniture Bank assists over 140 local families with their furniture needs\, transforming empty rooms into homes.<br />\n&nbsp\;
LOCATION:Hope Furnishings 117 Puyallup Ave Tacoma\, WA 98421
UID:e.9280.1240
SEQUENCE:3
DTSTAMP:20260421T141310Z
URL:https://members.masterbuilderspierce.com/events/details/design-professionals-council-meeting-06-14-2018-1240
END:VEVENT

END:VCALENDAR
