BEGIN:VCALENDAR
VERSION:2.0
PRODID:-//ChamberMaster//Event Calendar 2.0//EN
METHOD:PUBLISH
X-PUBLISHED-TTL:P3D
REFRESH-INTERVAL:P3D
CALSCALE:GREGORIAN
BEGIN:VEVENT
DTSTART:20180511T003000Z
DTEND:20180511T023000Z
X-MICROSOFT-CDO-ALLDAYEVENT:FALSE
SUMMARY:Design Professionals Council Meeting
DESCRIPTION:Join us for the May Design Professionals Council meeting! This month we'll be visiting fellow member\, Crescent Lighting Supply. \n\n\n\nThis is an educational meeting and anyone who is in need of CEU hours will be able to do just that at this meeting.  The meeting will be presented by Terry Wright\, the Hubbardton Forge Rep. He will also go over the new introductions to the line shown at market in January as well as helping everyone understand what Hubbardton can do for custom work\, etc. \n\n\n\nFood and beverage provided. $10 per person.
X-ALT-DESC;FMTTYPE=text/html:<span style="font-size:12px\;"><span style="font-family:verdana\;"><span style="color: rgb(51\, 51\, 51)\; background-color: rgb(255\, 255\, 255)\;">Join us for the May Design Professionals Council meeting! This month we&#39\;ll be visiting fellow member\, Crescent Lighting Supply.&nbsp\;</span><br />\n<br />\n<span style="color:black\;">This is an educational meeting and anyone who is in need of CEU hours will be able to do just that at this meeting.&nbsp\; The meeting will be presented by Terry Wright\, the Hubbardton Forge Rep. He will also go over the new introductions to the line shown at market in January as well as helping everyone understand what Hubbardton can do for custom work\, etc.&nbsp\;</span><br />\n<br style="color: rgb(51\, 51\, 51)\; font-family: sans-serif\, Arial\, Verdana\, &quot\;Trebuchet MS&quot\;\; font-size: 13px\;" />\n<span style="color: rgb(51\, 51\, 51)\; background-color: rgb(255\, 255\, 255)\;">Food and beverage provided. $10 per person.&nbsp\;</span></span></span>
LOCATION:Crescent Lighting Supply 3214 20th St. E Fife\, WA 98424
UID:e.9280.1239
SEQUENCE:3
DTSTAMP:20260421T171245Z
URL:https://members.masterbuilderspierce.com/events/details/design-professionals-council-meeting-05-10-2018-1239
END:VEVENT

END:VCALENDAR
