BEGIN:VCALENDAR
VERSION:2.0
PRODID:-//ChamberMaster//Event Calendar 2.0//EN
METHOD:PUBLISH
X-PUBLISHED-TTL:P3D
REFRESH-INTERVAL:P3D
CALSCALE:GREGORIAN
BEGIN:VEVENT
DTSTART:20180307T013000Z
DTEND:20180307T033000Z
X-MICROSOFT-CDO-ALLDAYEVENT:FALSE
SUMMARY:Design Professionals Council Meeting
DESCRIPTION:Join us for the March Design Professionals Council meeting! This month we'll be visiting fellow member\, New Leaf Cabinets & Counters. \n\n\n\nFood and beverage provided. $10 per person.
X-ALT-DESC;FMTTYPE=text/html:Join us for the March Design Professionals Council meeting! This month we&#39\;ll be visiting fellow member\, New Leaf Cabinets &amp\; Counters.&nbsp\;<br />\n<br />\nFood and beverage provided. $10 per person.&nbsp\;
LOCATION:New Leaf Cabinets & Counters 2710 S Yakima Ave\, Tacoma\, WA 98409
UID:e.9280.1237
SEQUENCE:3
DTSTAMP:20260421T195309Z
URL:https://members.masterbuilderspierce.com/events/details/design-professionals-council-meeting-03-08-2018-1237
END:VEVENT

END:VCALENDAR
