BEGIN:VCALENDAR
VERSION:2.0
PRODID:-//ChamberMaster//Event Calendar 2.0//EN
METHOD:PUBLISH
X-PUBLISHED-TTL:P3D
REFRESH-INTERVAL:P3D
CALSCALE:GREGORIAN
BEGIN:VEVENT
DTSTART:20190315T003000Z
DTEND:20190315T023000Z
X-MICROSOFT-CDO-ALLDAYEVENT:FALSE
SUMMARY:Design Professionals Council Meeting
DESCRIPTION:Join us this month at Signature Design & Cabinetry - Fearless Business Style presented by Michael Bruce Image Consulting. Your style is a reflection and statement to the world about who you are. WHAT DO YOU WANT TO SAY?\n\n\n\nDressing and addressing yourself with confidence - It's important to look in the mirror and assess without judgement to see what's truly reflected. How do you embrace what you see\, and project it to others with confidence?\n\n\n\nHeavy Hor D'Oeuvres & drinks will be served. Speaker will count as .1 CEU.\n\n\n\nIn the Fearless Business Style theme\, we invite you to bring items for donation. Go to http://DignifyForDivas.org\n\n**Clothing\, fashion accessories\, personal care products\, kitchen utensils\, household cleaning supplies\, & monatary donations are greatly appreciated.
X-ALT-DESC;FMTTYPE=text/html:Join us this month at Signature Design &amp\; Cabinetry - Fearless Business Style presented by Michael Bruce Image Consulting. Your style is a reflection and statement to the world about who you are. WHAT DO YOU WANT TO SAY?<br />\n<br />\nDressing and addressing yourself with confidence - It&#39\;s important to look in the mirror and assess without judgement to see what&#39\;s truly reflected. How do you embrace what you see\, and project it to others with confidence?<br />\n<br />\nHeavy Hor D&#39\;Oeuvres &amp\; drinks will be served. Speaker will count as .1 CEU.<br />\n<br />\nIn the Fearless Business Style theme\, we invite you to bring items for donation. Go to <a href="https://www.dignityfordivas.org/">http://DignifyForDivas.org</a><br />\n**Clothing\, fashion accessories\, personal care products\, kitchen utensils\, household cleaning supplies\, &amp\; monatary donations are greatly appreciated.
LOCATION:Signature Design & Cabinetry 911 Pacific Ave\, Tacoma\, WA 98402
UID:e.9280.1248
SEQUENCE:3
DTSTAMP:20260421T083247Z
URL:https://members.masterbuilderspierce.com/events/details/design-professionals-council-meeting-02-14-2019-1248
END:VEVENT

END:VCALENDAR
