BEGIN:VCALENDAR
VERSION:2.0
PRODID:-//ChamberMaster//Event Calendar 2.0//EN
METHOD:PUBLISH
X-PUBLISHED-TTL:P3D
REFRESH-INTERVAL:P3D
CALSCALE:GREGORIAN
BEGIN:VEVENT
DTSTART:20170210T013000Z
DTEND:20170210T033000Z
X-MICROSOFT-CDO-ALLDAYEVENT:FALSE
SUMMARY:Design Professionals Council Meeting
DESCRIPTION:Join the Design Professionals Council for an evening at the Bowman and Clark Furniture and Design Showroom on Thursday\, February 9.\n\n\n\nGet inspired and meet some of their vendors:\n\nTaylor King - Furniture\n\nLeathercraft - Furniture\n\nThibaut - Wall Coverings\n\nAndonian Rugs - Rugs \n\n\n\nWe look forward to seeing you there!\n\n\n\nClick below to see the event flier:\n\n https://chambermaster.blob.core.windows.net/userfiles/UserFiles/chambers/9280/File/DPCFebruary2017Flyer.pdf
X-ALT-DESC;FMTTYPE=text/html:Join the Design Professionals Council for an evening at the <strong>Bowman and Clark Furniture and Design&nbsp\;</strong>Showroom on Thursday\, February 9.<br />\n<br />\nGet inspired and meet some of their vendors:<br />\n<strong>Taylor King</strong>&nbsp\;- Furniture<br />\n<strong>Leathercraft</strong>&nbsp\;- Furniture<br />\n<strong>Thibaut</strong>&nbsp\;- Wall Coverings<br />\n<strong>Andonian Rugs</strong>&nbsp\;- Rugs&nbsp\;<br />\n<br />\nWe look forward to seeing you there!<br />\n<br />\nClick below to see the event flier:<br />\n&#8203\;<a href="https://chambermaster.blob.core.windows.net/userfiles/UserFiles/chambers/9280/File/DPCFebruary2017Flyer.pdf">https</a><a href="https://chambermaster.blob.core.windows.net/userfiles/UserFiles/chambers/9280/File/DPCFebruary2017Flyer.pdf">://chambermaster.blob.core.windows.net/userfiles/UserFiles/chambers/9280/File/DPCFebruary2017Flyer.pdf</a>
LOCATION:Bowman and Clark Furniture and Design 9532 Gravelly Lake Dr SW Lakewood\, WA 98499
UID:e.9280.1224
SEQUENCE:3
DTSTAMP:20260422T143548Z
URL:https://members.masterbuilderspierce.com/events/details/design-professionals-council-meeting-02-09-2017-1224
END:VEVENT

END:VCALENDAR
