BEGIN:VCALENDAR
VERSION:2.0
PRODID:-//ChamberMaster//Event Calendar 2.0//EN
METHOD:PUBLISH
X-PUBLISHED-TTL:P3D
REFRESH-INTERVAL:P3D
CALSCALE:GREGORIAN
BEGIN:VEVENT
DTSTART:20160727T010000Z
DTEND:20160727T030000Z
X-MICROSOFT-CDO-ALLDAYEVENT:FALSE
SUMMARY:Crab Feed hosted by the Remodelors Council and presented by Gray Lumber Company
DESCRIPTION:Join us for the Annual Remodelors Council Crab Feed presented by Gray Lumber Company! All MBA Pierce members are invited to attend this summer tradition\, this year in a new location - the Puyallup Park Pavilion. In past years\, this event has sold out so don't wait - buy your tickets now!\n\n\n\nREGISTRATION CLOSES WHEN SOLD OUT OR BY 7/22/2016\n\n\n\nNew in 2016 - First Annual Crab Feed Cornhole Tournament\n\nJoin in the fun! 16 teams of 2 will compete in a single elimination tournament for the championship honors (AND a 50/50 CASH prize!)\n\nRegistration & team match ups start at 5:15 pm\, tournament starts at 5:30\n\n Cost is $5 per person\n\n Pre-register by emailing Kim Taylor at ktaylor@mbapierce.com\n\n(Sponsored by Bill Korum's Puyallup Nissan)
X-ALT-DESC;FMTTYPE=text/html:Join us for the Annual&nbsp\;Remodelors Council Crab Feed presented by Gray Lumber Company! <strong>All MBA Pierce members are invited to attend</strong> this summer tradition\, this year in a new location - the Puyallup Park Pavilion. In past years\, this event has sold out so don&#39\;t wait - buy your tickets now!<br />\n<br />\n<strong>REGISTRATION CLOSES WHEN SOLD OUT OR BY 7/22/2016</strong><br />\n<br />\n<strong>New in 2016 - First Annual Crab Feed&nbsp\;Cornhole Tournament</strong><br />\nJoin in the fun! 16 teams of 2 will compete in a single elimination tournament for the championship honors (AND a 50/50 CASH prize!)<br />\nRegistration &amp\; team match ups start at 5:15 pm\, tournament starts at 5:30<br />\n&#8203\;Cost is $5 per person<br />\n&#8203\;Pre-register by emailing Kim Taylor at ktaylor@mbapierce.com<br />\n<em>(<strong>Sponsored by Bill Korum&#39\;s Puyallup Nissan</strong>)</em><br />\n&nbsp\;
LOCATION:Puyallup Park Pavilion 333 S Meridian Puyallup\, WA 98371
UID:e.9280.1088
SEQUENCE:3
DTSTAMP:20260423T010148Z
URL:https://members.masterbuilderspierce.com/events/details/crab-feed-hosted-by-the-remodelors-council-and-presented-by-gray-lumber-company-07-26-2016-1088
END:VEVENT

END:VCALENDAR
