BEGIN:VCALENDAR
VERSION:2.0
PRODID:-//ChamberMaster//Event Calendar 2.0//EN
METHOD:PUBLISH
X-PUBLISHED-TTL:P3D
REFRESH-INTERVAL:P3D
CALSCALE:GREGORIAN
BEGIN:VEVENT
DTSTART:20150521T190000Z
DTEND:20150522T010000Z
X-MICROSOFT-CDO-ALLDAYEVENT:FALSE
SUMMARY:CPR / First Aid
DESCRIPTION:
X-ALT-DESC;FMTTYPE=text/html:
LOCATION:1120 Pacific Avenue Suite 301 Tacoma\, WA 98402
UID:e.9280.13
SEQUENCE:3
DTSTAMP:20260424T004907Z
URL:https://members.masterbuilderspierce.com/events/details/cpr-first-aid-05-21-2015-13
END:VEVENT

END:VCALENDAR
