BEGIN:VCALENDAR
VERSION:2.0
PRODID:-//ChamberMaster//Event Calendar 2.0//EN
METHOD:PUBLISH
X-PUBLISHED-TTL:P3D
REFRESH-INTERVAL:P3D
CALSCALE:GREGORIAN
BEGIN:VEVENT
DTSTART:20190403T150000Z
DTEND:20190403T180000Z
X-MICROSOFT-CDO-ALLDAYEVENT:FALSE
SUMMARY:Construction Stormwater Worker Training - CANCELLED
DESCRIPTION:This class has been cancelled.\n\nConstruction Stormwater Worker Training\n\nEvery worker affects compliance... Let us help you do your job even better. As a CESCL\, you know how difficult it is to try to be everywhere at once on a job site. This class was designed with your challenges in mind. Help alleviate the stress of your job responsibilities by sending your co-workers to this training. After attending the class\, on-site workers will have a more complete understanding of how BMPs work\, what to look for if they are failing\, when to alert you if there is a problem\, and so much more.\n\n\n\nInstructor - Carl Menconi CPESC\, CESSWI
X-ALT-DESC;FMTTYPE=text/html:<p><em>This class has been cancelled.</em></p>\n\n<h2>Construction Stormwater Worker Training</h2>\n\n<p>Every worker affects compliance... Let us help you do your job even better. As a CESCL\, you know how difficult it is to try to be everywhere at once on a job site. This class was designed with your challenges in mind. Help alleviate the stress of your job responsibilities by sending your co-workers to this training. After attending the class\, on-site workers will have a more complete understanding of how BMPs work\, what to look for if they are failing\, when to alert you if there is a problem\, and so much more.<br />\n<br />\nInstructor - Carl Menconi CPESC\, CESSWI</p>\n
LOCATION:MBA Pierce County 3711 Center St. Tacoma\, WA 98409
UID:e.9280.3908
SEQUENCE:3
DTSTAMP:20260421T082559Z
URL:https://members.masterbuilderspierce.com/events/details/construction-stormwater-worker-training-cancelled-3908
END:VEVENT

END:VCALENDAR
