BEGIN:VCALENDAR
VERSION:2.0
PRODID:-//ChamberMaster//Event Calendar 2.0//EN
METHOD:PUBLISH
X-PUBLISHED-TTL:P3D
REFRESH-INTERVAL:P3D
CALSCALE:GREGORIAN
BEGIN:VEVENT
DTSTART:20180515T153000Z
DTEND:20180515T233000Z
X-MICROSOFT-CDO-ALLDAYEVENT:FALSE
SUMMARY:Construction Contracts & Lien Law
DESCRIPTION:Construction Contracts & Lien Law\n\n7.5 Real Estate Clock Hours WA DOL ~ BIAW 6 CE\, Insurance Continuing Education\, State of WA Insurance Commissioner ~ BIAW 6 CE\, National Association of Home Builders (NAHB) ~ NAHB 6 CE\, American Institute of Building Design (AIBD) ~ NAHB Legal Continuing Education Credit (through Linville Law Firm) ANY COMPANY WHO USES CONTRACTS NEED THIS CLASS! Bring Your Contract to the Course and have a professional Attorney personally review it to make sure you have everything you need not to get sued! The Contracts portion of the class will teach you the important terms you need to address in your contract in order to minimize the occurrence and magnitude of problems which inevitably arise with customers or other contractors. You will learn how to write an improved contract that contains the required legal notices\, provides for economical resolution of a dispute\, establishes a practical method of handling change orders\, gives the customer a limited warranty\, and precludes your customer from firing and hiring somebody else to fix or complete your work. All good things you need in your standard contract. This seminar also explains the significant terms of the standard commercial subcontract and how these terms can present unwanted risk to the subcontractor. You will learn that these terms should be negotiated rather than blindly accepted. The Contracts seminar comes complete with a 238 page course book in a durable 3-ring binder that is totally current\, accurate and explanatory. You can go online at www.linvillelawfirm.com and view the complete table of contents for this book. The Lien section of the class will teach you how to prepare\, record and foreclose a lien on either a commercial or residential project. The seminar will also teach you how to prepare\, file and foreclose your lien against a payment bond or a retainage on any federal\, state\, county\, or city public works project. Both liens and public works claims generally require a preliminary notice. This is all explained at the Lien seminar. The Lien seminar comes complete with a 343 page course book in a durable 3-ring binder that is totally current\, accurate and explanatory. All necessary forms are included. The course book is an excellent reference guide\, designed for practical application. You can go online at www.linvillelawfirm.com and view the complete table of contents for this book. Instructor: Linville Law Office
X-ALT-DESC;FMTTYPE=text/html:<h4 id="Content1_lblClassTitle" style="margin-top: 0.5em\; margin-bottom: 0.5em\; font-size: large\; color: rgb(71\, 73\, 75)\; font-family: Arial\; line-height: 17.545px\; background-color: rgb(255\, 255\, 255)\;">Construction Contracts &amp\; Lien Law</h4>\n\n<div id="Content1_lblClassDescription" style="color: rgb(71\, 73\, 75)\; font-family: Arial\; font-size: 12.1px\; line-height: 17.545px\; background-color: rgb(255\, 255\, 255)\;">7.5 Real Estate Clock Hours WA DOL ~ BIAW 6 CE\, Insurance Continuing Education\, State of WA Insurance Commissioner ~ BIAW 6 CE\, National Association of Home Builders (NAHB) ~ NAHB 6 CE\, American Institute of Building Design (AIBD) ~ NAHB Legal Continuing Education Credit (through Linville Law Firm) ANY COMPANY WHO USES CONTRACTS NEED THIS CLASS! Bring Your Contract to the Course and have a professional Attorney personally review it to make sure you have everything you need not to get sued! The Contracts portion of the class will teach you the important terms you need to address in your contract in order to minimize the occurrence and magnitude of problems which inevitably arise with customers or other contractors. You will learn how to write an improved contract that contains the required legal notices\, provides for economical resolution of a dispute\, establishes a practical method of handling change orders\, gives the customer a limited warranty\, and precludes your customer from firing and hiring somebody else to fix or complete your work. All good things you need in your standard contract. This seminar also explains the significant terms of the standard commercial subcontract and how these terms can present unwanted risk to the subcontractor. You will learn that these terms should be negotiated rather than blindly accepted. The Contracts seminar comes complete with a 238 page course book in a durable 3-ring binder that is totally current\, accurate and explanatory. You can go online at www.linvillelawfirm.com and view the complete table of contents for this book. The Lien section of the class will teach you how to prepare\, record and foreclose a lien on either a commercial or residential project. The seminar will also teach you how to prepare\, file and foreclose your lien against a payment bond or a retainage on any federal\, state\, county\, or city public works project. Both liens and public works claims generally require a preliminary notice. This is all explained at the Lien seminar. The Lien seminar comes complete with a 343 page course book in a durable 3-ring binder that is totally current\, accurate and explanatory. All necessary forms are included. The course book is an excellent reference guide\, designed for practical application. You can go online at www.linvillelawfirm.com and view the complete table of contents for this book. Instructor: Linville Law Office</div>\n
LOCATION:MBA Pierce County 3711 Center St. Tacoma\, WA 98409
UID:e.9280.2377
SEQUENCE:3
DTSTAMP:20260421T152921Z
URL:https://members.masterbuilderspierce.com/events/details/construction-contracts-lien-law-2377
END:VEVENT

END:VCALENDAR
