BEGIN:VCALENDAR
VERSION:2.0
PRODID:-//ChamberMaster//Event Calendar 2.0//EN
METHOD:PUBLISH
X-PUBLISHED-TTL:P3D
REFRESH-INTERVAL:P3D
CALSCALE:GREGORIAN
BEGIN:VEVENT
DTSTART:20171011T150000Z
DTEND:20171013T000000Z
X-MICROSOFT-CDO-ALLDAYEVENT:FALSE
SUMMARY:Certified Erosion & Sediment Control Lead-CESCL
DESCRIPTION:Certified Erosion & Sediment Control Lead-CESCL\n\n3 Year Certified Erosion & Sediment Control Lead Certification ~ BIAW\n\n12 CE\, National Association of Home Builders (NAHB) ~ NAHB\n\n\n\nDo you need a Construction Stormwater General Permit from Ecology? If your project disturbs over an acre of land or is in a subdivision\, you probably do. Part of the requirements of this permit states: all sites disturbing over an acre must have a Certified Erosion and Sediment Control Lead (CESCL). The CESCL is trained to inspect\, install\, and manage stormwater controls on your site. Because Ecology requires CESCL to be on-call at all times\, most companies will need more than one employee trained as a CESCL.\n\nInstructor: DOE Certified Instructor
X-ALT-DESC;FMTTYPE=text/html:<h4 id="Content1_lblClassTitle" style="margin-top: 0.5em\; margin-bottom: 0.5em\; font-size: large\; color: rgb(71\, 73\, 75)\; font-family: Arial\; background-color: rgb(255\, 255\, 255)\;">Certified Erosion &amp\; Sediment Control Lead-CESCL</h4>\n\n<div id="Content1_lblClassDescription" style="color: rgb(71\, 73\, 75)\; font-family: Arial\; font-size: 12.1px\; background-color: rgb(255\, 255\, 255)\;">3 Year Certified Erosion &amp\; Sediment Control Lead Certification ~ BIAW<br />\n12 CE\, National Association of Home Builders (NAHB) ~ NAHB<br />\n<br />\nDo you need a Construction Stormwater General Permit from Ecology? If your project disturbs over an acre of land or is in a subdivision\, you probably do. Part of the requirements of this permit states: all sites disturbing over an acre must have a Certified Erosion and Sediment Control Lead (CESCL). The CESCL is trained to inspect\, install\, and manage stormwater controls on your site. Because Ecology requires CESCL to be on-call at all times\, most companies will need more than one employee trained as a CESCL.<br />\nInstructor: DOE Certified Instructor</div>\n
LOCATION:MBA of Pierce County 3711 Center St Tacoma\, WA 98409
UID:e.9280.1810
SEQUENCE:3
DTSTAMP:20260422T022003Z
URL:https://members.masterbuilderspierce.com/events/details/certified-erosion-sediment-control-lead-cescl-1810
END:VEVENT

END:VCALENDAR
