BEGIN:VCALENDAR
VERSION:2.0
PRODID:-//ChamberMaster//Event Calendar 2.0//EN
METHOD:PUBLISH
X-PUBLISHED-TTL:P3D
REFRESH-INTERVAL:P3D
CALSCALE:GREGORIAN
BEGIN:VEVENT
DTSTART;VALUE=DATE:20161004
DTEND;VALUE=DATE:20161006
TRANSP:TRANSPARENT
X-MICROSOFT-CDO-ALLDAYEVENT:TRUE
SUMMARY:Certified Erosion & Sediment Control Lead CESCL
DESCRIPTION:Certified Erosion & Sediment Control Lead-CESCL\n\n3 Year Certified Erosion & Sediment Control Lead Certification ~ BIAW 16 CE\, Appraiser Continuing Education ~ BIAW 12 CE\, National Association of Home Builders (NAHB) ~ NAHB Do you need a Construction Stormwater General Permit from Ecology? If your project disturbs over an acre of land or is in a subdivision\, you probably do. Part of the requirements of this permit states: all sites disturbing over an acre must have a Certified Erosion and Sediment Control Lead (CESCL). The CESCL is trained to inspect\, install\, and manage stormwater controls on your site. Because Ecology requires CESCL to be on-call at all times\, most companies will need more than one employee trained as a CESCL. Instructor: DOE Certified Instructor
X-ALT-DESC;FMTTYPE=text/html:<h4 id="Content1_lblClassTitle" style="margin-top: 0.5em\; margin-bottom: 0.5em\; font-size: large\; color: rgb(71\, 73\, 75)\; font-family: Arial\; line-height: 17.545px\; background-color: rgb(255\, 255\, 255)\;">Certified Erosion &amp\; Sediment Control Lead-CESCL</h4>\n\n<div id="Content1_lblClassDescription" style="color: rgb(71\, 73\, 75)\; font-family: Arial\; font-size: 12.1px\; line-height: 17.545px\; background-color: rgb(255\, 255\, 255)\;">3 Year Certified Erosion &amp\; Sediment Control Lead Certification ~ BIAW 16 CE\, Appraiser Continuing Education ~ BIAW 12 CE\, National Association of Home Builders (NAHB) ~ NAHB Do you need a Construction Stormwater General Permit from Ecology? If your project disturbs over an acre of land or is in a subdivision\, you probably do. Part of the requirements of this permit states: all sites disturbing over an acre must have a Certified Erosion and Sediment Control Lead (CESCL). The CESCL is trained to inspect\, install\, and manage stormwater controls on your site. Because Ecology requires CESCL to be on-call at all times\, most companies will need more than one employee trained as a CESCL. Instructor: DOE Certified Instructor</div>\n
LOCATION:MBA Pierce Office (1120 Pacific Ave\, Ste 301\, Tacoma)
UID:e.9280.78
SEQUENCE:3
DTSTAMP:20260422T201450Z
URL:https://members.masterbuilderspierce.com/events/details/certified-erosion-sediment-control-lead-cescl-10-04-2016-78
END:VEVENT

END:VCALENDAR
