BEGIN:VCALENDAR
VERSION:2.0
PRODID:-//ChamberMaster//Event Calendar 2.0//EN
METHOD:PUBLISH
X-PUBLISHED-TTL:P3D
REFRESH-INTERVAL:P3D
CALSCALE:GREGORIAN
BEGIN:VEVENT
DTSTART:20190927T190000Z
DTEND:20190927T203000Z
X-MICROSOFT-CDO-ALLDAYEVENT:FALSE
SUMMARY:CBUSA Lunch & Learn - Cancelled
DESCRIPTION:This meeting has been cancelled. \n\n\n\nMBA Pierce builders are invited to the CBUSA Lunch & Learn to discuss the concept of group purchasing and how joining a network of the best builders in the country can add to your bottom line. \n\n\n\nThrough CBUSA's national contracts program\, members can save up to 20% on building materials from quality manufacturers like Kohler\, Rinnai\, James Hardie\, Lennox and Electrolux\, to name a few. Due to the collective volume of the CBUSA network\, members purchase like large regional or national builders and are able to establish relationships directly with the manufacturer.\n\n\n\nMeeting Details - CBUSA Lunch and Learn\n\n	National contracts\n	Vendor recruitment\n	Launching the program\n	CBUSA will provide lunch \n\nAbout CBUSA:\n\n\n	CBUSA builder buying group made up of 425+ builder members in 28 major markets around the country.\n	All of our member companies are independently owned and operated.\n	CBUSA Networks started roughly 7\,800 homes in 2017 and generated combined revenue of $3.4 billion\, which is equivalent to that of a top 8 national builder.\n\n\n\n\n\n\n\nCBUSA Website: http://www.cbusa.us
X-ALT-DESC;FMTTYPE=text/html:<span style="color:#FF0000\;"><em><strong>This meeting has been cancelled. </strong></em></span><br />\n<br />\nMBA Pierce builders are invited to the CBUSA Lunch &amp\; Learn to discuss the concept of group purchasing and how joining a network of the best builders in the country can add to your bottom line.&nbsp\;<br />\n<br />\nThrough CBUSA&#39\;s national contracts program\, members can save up to 20% on building materials from quality manufacturers like Kohler\, Rinnai\, James Hardie\, Lennox and Electrolux\, to name a few. Due to the collective volume of the CBUSA network\, members purchase like large regional or national builders and are able to establish relationships directly with the manufacturer.<br />\n<br />\n<u><strong>Meeting Details - CBUSA Lunch and Learn</strong></u>\n<ul>\n	<li>National contracts</li>\n	<li>Vendor recruitment</li>\n	<li>Launching the program</li>\n	<li>CBUSA will provide lunch&nbsp\;</li>\n</ul>\n<u><strong>About CBUSA:</strong></u>\n\n<ul>\n	<li>CBUSA builder buying group made up of 425+ builder members in 28 major markets around the country.</li>\n	<li>All of our member companies are independently owned and operated.</li>\n	<li>CBUSA Networks started roughly 7\,800 homes in 2017 and generated combined revenue of $3.4 billion\, which is equivalent to that of a top 8 national builder.</li>\n</ul>\n<br />\n<br />\n<iframe allow="accelerometer\; autoplay\; encrypted-media\; gyroscope\; picture-in-picture" allowfullscreen="" frameborder="0" height="315" src="https://www.youtube.com/embed/NFWgULdlGRo" width="560"></iframe><br />\nCBUSA Website: <a href="http://www.cbusa.us">http://www.cbusa.us</a><br />\n&nbsp\;
LOCATION:MBA Pierce 3711 Center Street Tacoma\, WA 98409
UID:e.9280.3990
SEQUENCE:3
DTSTAMP:20260421T101036Z
URL:https://members.masterbuilderspierce.com/events/details/cbusa-lunch-learn-cancelled-3990
END:VEVENT

END:VCALENDAR
