BEGIN:VCALENDAR
VERSION:2.0
PRODID:-//ChamberMaster//Event Calendar 2.0//EN
METHOD:PUBLISH
X-PUBLISHED-TTL:P3D
REFRESH-INTERVAL:P3D
CALSCALE:GREGORIAN
BEGIN:VEVENT
DTSTART:20170906T150000Z
DTEND:20170907T000000Z
X-MICROSOFT-CDO-ALLDAYEVENT:FALSE
SUMMARY:CAPS 1: Marketing & Communications Strategies
DESCRIPTION:CAPS 1: Marketing & Communication Strategies\n\n8 Real Estate Clock Hours WA DOL ~ BIAW\n\n6 CE\, National Association of Home Builders (NAHB) ~ NAHB\n\n0.6 CE\, American Occupational Therapy Association (AOTA) ~ NAHB\n\n6 CE\, American Institute of Building Design (AIBD) ~ NAHB\n\n\n\nONLY CLASS SCHEDULED IN 2017 * GET YOUR CERTIFIED GRADUATE ASSOCIATE (CGA) NATIONAL DESGINATION! CALLING ALL BIAW ASSOCIATE MEMBERS DON'T MISS OUT ON THIS CLASS!\n\n\n\nMillions of Americans are living longer and more active lives. And with their changing lifestyles\, maturing Americans are also looking to revitalize their home environments. Identifying these opportunities and developing the skills to interact with 50+ customers can help you grow your business dramatically. Learn best practices in communicating and interacting with this exciting and evolving population\, and take advantage of one of the fastest growing market segments in remodeling and related industries. As a graduate of this course\, you will be able to: * Explain the three segments within the Aging in Place market that present business opportunities for building professionals * Implement a process for promoting new opportunities for products and services in the Aging in Place market \n\n* Enhance your sales process with effective techniques for the Aging in Place market\n\n\n\nInstructors: Daimon Doyle\, CGB\, Kris Alberti\, CGP\, CAPS\, Dave Porter\, CAPS\, CGA\, CGP\, CMP\, MIRM\, Joseph Irons\, CGR\, CAPS\, CGP\, GMR\, GMB\, GMR
X-ALT-DESC;FMTTYPE=text/html:<h4 id="Content1_lblClassTitle" style="margin-top: 0.5em\; margin-bottom: 0.5em\; font-size: large\; color: rgb(71\, 73\, 75)\; font-family: Arial\; background-color: rgb(255\, 255\, 255)\;">CAPS 1: Marketing &amp\; Communication Strategies</h4>\n\n<div id="Content1_lblClassDescription" style="color: rgb(71\, 73\, 75)\; font-family: Arial\; font-size: 12.1px\; background-color: rgb(255\, 255\, 255)\;">8 Real Estate Clock Hours WA DOL ~ BIAW<br />\n6 CE\, National Association of Home Builders (NAHB) ~ NAHB<br />\n0.6 CE\, American Occupational Therapy Association (AOTA) ~ NAHB<br />\n6 CE\, American Institute of Building Design (AIBD) ~ NAHB<br />\n<br />\nONLY CLASS SCHEDULED IN 2017 * GET YOUR CERTIFIED GRADUATE ASSOCIATE (CGA) NATIONAL DESGINATION! CALLING ALL BIAW ASSOCIATE MEMBERS DON&#39\;T MISS OUT ON THIS CLASS!<br />\n<br />\nMillions of Americans are living longer and more active lives. And with their changing lifestyles\, maturing Americans are also looking to revitalize their home environments. Identifying these opportunities and developing the skills to interact with 50+ customers can help you grow your business dramatically. Learn best practices in communicating and interacting with this exciting and evolving population\, and take advantage of one of the fastest growing market segments in remodeling and related industries. As a graduate of this course\, you will be able to: * Explain the three segments within the Aging in Place market that present business opportunities for building professionals * Implement a process for promoting new opportunities for products and services in the Aging in Place market&nbsp\;<br />\n* Enhance your sales process with effective techniques for the Aging in Place market<br />\n<br />\nInstructors: Daimon Doyle\, CGB\, Kris Alberti\, CGP\, CAPS\, Dave Porter\, CAPS\, CGA\, CGP\, CMP\, MIRM\, Joseph Irons\, CGR\, CAPS\, CGP\, GMR\, GMB\, GMR</div>\n
LOCATION:MBA of Pierce County 3711 Center St Tacoma\, WA 98409
UID:e.9280.1805
SEQUENCE:3
DTSTAMP:20260422T035930Z
URL:https://members.masterbuilderspierce.com/events/details/caps-1-marketing-communications-strategies-1805
END:VEVENT

END:VCALENDAR
