BEGIN:VCALENDAR
VERSION:2.0
PRODID:-//ChamberMaster//Event Calendar 2.0//EN
METHOD:PUBLISH
X-PUBLISHED-TTL:P3D
REFRESH-INTERVAL:P3D
CALSCALE:GREGORIAN
BEGIN:VEVENT
DTSTART;VALUE=DATE:20160914
DTEND;VALUE=DATE:20160915
TRANSP:TRANSPARENT
X-MICROSOFT-CDO-ALLDAYEVENT:TRUE
SUMMARY:CAPS 1: Marketing & Communications Strategies
DESCRIPTION:CAPS 1: Marketing & Communication Strategies\n\n8 Real Estate Clock Hours WA DOL ~ BIAW 6 CE\, National Association of Home Builders (NAHB) ~ NAHB 0.6 CE\, American Occupational Therapy Association (AOTA) ~ NAHB 6 CE\, American Institute of Building Design (AIBD) ~ NAHB Millions of Americans are living longer and more active lives. And with their changing lifestyles\, maturing Americans are also looking to revitalize their home environments. Identifying these opportunities and developing the skills to interact with 50+ customers can help you grow your business dramatically. Learn best practices in communicating and interacting with this exciting and evolving population\, and take advantage of one of the fastest growing market segments in remodeling and related industries. As a graduate of this course\, you will be able to: * Explain the three segments within the Aging in Place market that present business opportunities for building professionals * Implement a process for promoting new opportunities for products and services in the Aging in Place market * Enhance your sales process with effective techniques for the Aging in Place market Instructors: Daimon Doyle\, CGB\, Kris Alberti\, CGP\, CAPS\, Dave Porter\, CAPS\, CGA\, CGP\, CMP\, MIRM\, Joseph Irons\, CGR\, CAPS\, CGP\, GMR\, GMB\, GMR
X-ALT-DESC;FMTTYPE=text/html:<h4 id="Content1_lblClassTitle" style="margin-top: 0.5em\; margin-bottom: 0.5em\; font-size: large\; color: rgb(71\, 73\, 75)\; font-family: Arial\; line-height: 17.545px\; background-color: rgb(255\, 255\, 255)\;">CAPS 1: Marketing &amp\; Communication Strategies</h4>\n\n<div id="Content1_lblClassDescription" style="color: rgb(71\, 73\, 75)\; font-family: Arial\; font-size: 12.1px\; line-height: 17.545px\; background-color: rgb(255\, 255\, 255)\;">8 Real Estate Clock Hours WA DOL ~ BIAW 6 CE\, National Association of Home Builders (NAHB) ~ NAHB 0.6 CE\, American Occupational Therapy Association (AOTA) ~ NAHB 6 CE\, American Institute of Building Design (AIBD) ~ NAHB Millions of Americans are living longer and more active lives. And with their changing lifestyles\, maturing Americans are also looking to revitalize their home environments. Identifying these opportunities and developing the skills to interact with 50+ customers can help you grow your business dramatically. Learn best practices in communicating and interacting with this exciting and evolving population\, and take advantage of one of the fastest growing market segments in remodeling and related industries. As a graduate of this course\, you will be able to: * Explain the three segments within the Aging in Place market that present business opportunities for building professionals * Implement a process for promoting new opportunities for products and services in the Aging in Place market * Enhance your sales process with effective techniques for the Aging in Place market Instructors: Daimon Doyle\, CGB\, Kris Alberti\, CGP\, CAPS\, Dave Porter\, CAPS\, CGA\, CGP\, CMP\, MIRM\, Joseph Irons\, CGR\, CAPS\, CGP\, GMR\, GMB\, GMR</div>\n
LOCATION:MBA Pierce Office (1120 Pacific Ave\, Ste 301\, Tacoma)
UID:e.9280.74
SEQUENCE:3
DTSTAMP:20260422T215802Z
URL:https://members.masterbuilderspierce.com/events/details/caps-1-marketing-communications-strategies-09-14-2016-74
END:VEVENT

END:VCALENDAR
