BEGIN:VCALENDAR
VERSION:2.0
PRODID:-//ChamberMaster//Event Calendar 2.0//EN
METHOD:PUBLISH
X-PUBLISHED-TTL:P3D
REFRESH-INTERVAL:P3D
CALSCALE:GREGORIAN
BEGIN:VEVENT
DTSTART:20191022T150000Z
DTEND:20191023T000000Z
X-MICROSOFT-CDO-ALLDAYEVENT:FALSE
SUMMARY:CAPS 1: Marketing & Communicating with the Aging In Place Client
DESCRIPTION:CAPS 1: Marketing & Communicating with the Aging In Place Client \n\n\n\nThis course qualifies for:  6 CE for AIBD  0.6 CEU for AOTA  6 NAHB CE for: CAPS\, CGA\, CGB\, CGR\, GMB\, CSP\, Master CSP\, CMP\, MIRM 8 Real Estate Clock Hours WA DOL ~ BIAW\n\n\n\nMillions of Americans are living longer and more active lives. Because they are embracing newly found and changing lifestyles\, they need to revitalize their home environment. Identifying this burgeoning opportunity and then developing the skills to interact with this market can help you grow your business dramatically. This course equips participants with the knowledge and tools to effectively market and sell services to the aging-in-place (AIP) market. This course will benefit builders\, remodelers and allied professionals that serve the aging in place market\, including occupational therapists\, real estate professionals and trade contractors as well as academics.\n\n\n\nInstructors: Daimon Doyle\, CGB\, Dave Porter\, CAPS\, CGA\, CGP\, CMP\, MIRM\, Joseph Irons\, CGR\, CAPS\, CGP\, GMR\, GMB
X-ALT-DESC;FMTTYPE=text/html:<span style="font-size:16px\;"><strong>CAPS 1: Marketing &amp\; Communicating with the Aging In Place Client </strong></span><br />\n<br />\nThis course qualifies for: &bull\;6 CE for AIBD &bull\;0.6 CEU for AOTA &bull\;6 NAHB CE for: CAPS\, CGA\, CGB\, CGR\, GMB\, CSP\, Master CSP\, CMP\, MIRM 8 Real Estate Clock Hours WA DOL ~ BIAW<br />\n<br />\nMillions of Americans are living longer and more active lives. Because they are embracing newly found and changing lifestyles\, they need to revitalize their home environment. Identifying this burgeoning opportunity and then developing the skills to interact with this market can help you grow your business dramatically. This course equips participants with the knowledge and tools to effectively market and sell services to the aging-in-place (AIP) market. This course will benefit builders\, remodelers and allied professionals that serve the aging in place market\, including occupational therapists\, real estate professionals and trade contractors as well as academics.<br />\n<br />\nInstructors: Daimon Doyle\, CGB\, Dave Porter\, CAPS\, CGA\, CGP\, CMP\, MIRM\, Joseph Irons\, CGR\, CAPS\, CGP\, GMR\, GMB
LOCATION:MBA Pierce County 3711 Center St. Tacoma\, WA 98409
UID:e.9280.3824
SEQUENCE:3
DTSTAMP:20260421T083246Z
URL:https://members.masterbuilderspierce.com/events/details/caps-1-marketing-communicating-with-the-aging-in-place-client-3824
END:VEVENT

END:VCALENDAR
