BEGIN:VCALENDAR
VERSION:2.0
PRODID:-//ChamberMaster//Event Calendar 2.0//EN
METHOD:PUBLISH
X-PUBLISHED-TTL:P3D
REFRESH-INTERVAL:P3D
CALSCALE:GREGORIAN
BEGIN:VEVENT
DTSTART;VALUE=DATE:20160217
DTEND;VALUE=DATE:20160219
TRANSP:TRANSPARENT
X-MICROSOFT-CDO-ALLDAYEVENT:TRUE
SUMMARY:CANCELLED-Green Building for Building Professionals (2/17-18/2016)
DESCRIPTION:Green Building for Building Professionals\n\nRECENTLY UPDATED!! Implementing cost-effective green building into your construction practices begins with up-front planning that examines the whole house and the building science behind it. In this two-day course\, you will learn how to apply green building practices in the construction of a new home\, remodel\, site development or multifamily project. With a focus on flexibility\, a sound knowledge base and cost-effective solutions\, the course provides the tools for a successful green project\, including a review of the newly revised ICC 700-2012 National Green Building Standard .\n\n\n\nAs a graduate of this course\, you will learn how to:   Integrate sound building science principles and a whole house approach into the design\, construction and remodeling process   Address water\, resource and energy efficiency as well as indoor environmental quality in your projects   Examine specific green building practices in each chapter of the ICC 700-2012 National Green Building Standard    Market and sell in the expanding green home marketplace.\n\n\n\nInstructor: Daimon Doyle\, CGB\n\n\n\n16 Real Estate Clock Hours WA DOL ~ BIAW 16 Appraiser Continuing Education ~ BIAW 8-16 CE\, WA State Local Association Built Green  Programs (CE vary by individual BG Programs) ~ BIAW 12 CE\, National Association of Home Builders (NAHB) ~ NAHB 12.0 CE\, American Institute of Architects (AIA) / (HSW)/ (SD) ~ NAHB 6 CE\, American Institute of Building Design (AIBD) ~ NAHB 8 CEU\, Building Performance Institute\, Inc. (BPI) ~ Student submit completion certificate
X-ALT-DESC;FMTTYPE=text/html:<h4 id="Content1_lblClassTitle" style="margin-top: 0.5em\; margin-bottom: 0.5em\; font-size: large\; color: rgb(71\, 73\, 75)\; font-family: Arial\; line-height: 17.545px\; background-color: rgb(255\, 255\, 255)\;">Green Building for Building Professionals</h4>\n\n<div id="Content1_lblClassDescription" style="color: rgb(71\, 73\, 75)\; font-family: Arial\; font-size: 12.1px\; line-height: 17.545px\; background-color: rgb(255\, 255\, 255)\;">RECENTLY UPDATED!! Implementing cost-effective green building into your construction practices begins with up-front planning that examines the whole house and the building science behind it. In this two-day course\, you will learn how to apply green building practices in the construction of a new home\, remodel\, site development or multifamily project. With a focus on flexibility\, a sound knowledge base and cost-effective solutions\, the course provides the tools for a successful green project\, including a review of the newly revised ICC 700-2012 National Green Building Standard&reg\;.<br />\n<br />\nAs a graduate of this course\, you will learn how to: &bull\; Integrate sound building science principles and a whole house approach into the design\, construction and remodeling process &bull\; Address water\, resource and energy efficiency as well as indoor environmental quality in your projects &bull\; Examine specific green building practices in each chapter of the ICC 700-2012 National Green Building Standard&reg\; &bull\; Market and sell in the expanding green home marketplace.<br />\n<br />\nInstructor: Daimon Doyle\, CGB<br />\n<br />\n<span style="color: rgb(71\, 73\, 75)\; font-family: Arial\; font-size: 12.1px\; line-height: 17.545px\; background-color: rgb(255\, 255\, 255)\;">16 Real Estate Clock Hours WA DOL ~&nbsp\;</span>BIAW<span style="color: rgb(71\, 73\, 75)\; font-family: Arial\; font-size: 12.1px\; line-height: 17.545px\; background-color: rgb(255\, 255\, 255)\;">&nbsp\;16 Appraiser Continuing Education ~&nbsp\;</span>BIAW<span style="color: rgb(71\, 73\, 75)\; font-family: Arial\; font-size: 12.1px\; line-height: 17.545px\; background-color: rgb(255\, 255\, 255)\;">&nbsp\;8-16 CE\, WA State Local Association Built Green&reg\; Programs (CE vary by individual BG Programs) ~&nbsp\;</span>BIAW<span style="color: rgb(71\, 73\, 75)\; font-family: Arial\; font-size: 12.1px\; line-height: 17.545px\; background-color: rgb(255\, 255\, 255)\;">&nbsp\;12 CE\, National Association of Home Builders (</span>NAHB<span style="color: rgb(71\, 73\, 75)\; font-family: Arial\; font-size: 12.1px\; line-height: 17.545px\; background-color: rgb(255\, 255\, 255)\;">) ~&nbsp\;</span>NAHB<span style="color: rgb(71\, 73\, 75)\; font-family: Arial\; font-size: 12.1px\; line-height: 17.545px\; background-color: rgb(255\, 255\, 255)\;">&nbsp\;12.0 CE\, American Institute of Architects (AIA) / (HSW)/ (SD) ~&nbsp\;</span>NAHB<span style="color: rgb(71\, 73\, 75)\; font-family: Arial\; font-size: 12.1px\; line-height: 17.545px\; background-color: rgb(255\, 255\, 255)\;">&nbsp\;6 CE\, American Institute of Building Design (</span>AIBD<span style="color: rgb(71\, 73\, 75)\; font-family: Arial\; font-size: 12.1px\; line-height: 17.545px\; background-color: rgb(255\, 255\, 255)\;">) ~&nbsp\;</span>NAHB<span style="color: rgb(71\, 73\, 75)\; font-family: Arial\; font-size: 12.1px\; line-height: 17.545px\; background-color: rgb(255\, 255\, 255)\;">&nbsp\;8 CEU\, Building Performance Institute\, Inc. (BPI) ~ Student submit completion certificate&nbsp\;</span></div>\n
LOCATION:MBA Pierce Office (1120 Pacific Ave\, Ste 301\, Tacoma)
UID:e.9280.82
SEQUENCE:3
DTSTAMP:20260423T084327Z
URL:https://members.masterbuilderspierce.com/events/details/cancelled-green-building-for-building-professionals-2-17-18-2016-02-17-2016-82
END:VEVENT

END:VCALENDAR
