BEGIN:VCALENDAR
VERSION:2.0
PRODID:-//ChamberMaster//Event Calendar 2.0//EN
METHOD:PUBLISH
X-PUBLISHED-TTL:P3D
REFRESH-INTERVAL:P3D
CALSCALE:GREGORIAN
BEGIN:VEVENT
DTSTART;VALUE=DATE:20160219
DTEND;VALUE=DATE:20160220
TRANSP:TRANSPARENT
X-MICROSOFT-CDO-ALLDAYEVENT:TRUE
SUMMARY:CANCELLED-Business Management for Building Professionals (2/19/2016)
DESCRIPTION:Business Management for Building Professionals\n\nNAHB Learn the management skills that give industry leaders the edge. This course will give you a solid foundation for managing small to medium size building/remodeling and service companies. This course explains critical elements from planning to evaluating progress and presents practical tips and tools for managing a business successfully. You'll get a solid grasp of business best practices and practical tools of value whether you are a new or experienced business owner.\n\n\n\nAs a graduate of this course\, you will be able to: * Identify common business challenges and ways to overcome them. * Describe the three basic functional areas of a business. * Describe how to plan effectively for achieving business success. * Describe the organization and processes that a company needs to have in place to run efficiently.* Identify methods for recruiting\, interviewing\, training and retaining quality personnel.* Identify performance tools to help you achieve success.* Identify methods for evaluating your progress.\n\n\n\nInstructor: Daimon Doyle\, CGB\n\n\n\n6 CE\, National Association of Home Builders (NAHB) ~ NAHB 6.0 CE\, American Institute of Architects (AIA)/ (HSW)/ (SD) ~ NAHB 6 CE\, American Institute of Building Design (AIBD)
X-ALT-DESC;FMTTYPE=text/html:<h4 id="Content1_lblClassTitle" style="margin-top: 0.5em\; margin-bottom: 0.5em\; font-size: large\; color: rgb(71\, 73\, 75)\; font-family: Arial\; line-height: 17.545px\; background-color: rgb(255\, 255\, 255)\;">Business Management for Building Professionals</h4>\n\n<div id="Content1_lblClassDescription" style="color: rgb(71\, 73\, 75)\; font-family: Arial\; font-size: 12.1px\; line-height: 17.545px\; background-color: rgb(255\, 255\, 255)\;">NAHB Learn the management skills that give industry leaders the edge. This course will give you a solid foundation for managing small to medium size building/remodeling and service companies. This course explains critical elements from planning to evaluating progress and presents practical tips and tools for managing a business successfully. You&rsquo\;ll get a solid grasp of business best practices and practical tools of value whether you are a new or experienced business owner.<br />\n<br />\nAs a graduate of this course\, you will be able to: * Identify common business challenges and ways to overcome them. * Describe the three basic functional areas of a business. * Describe how to plan effectively for achieving business success. * Describe the organization and processes that a company needs to have in place to run efficiently.* Identify methods for recruiting\, interviewing\, training and retaining quality personnel.* Identify performance tools to help you achieve success.* Identify methods for evaluating your progress.<br />\n<br />\nInstructor:&nbsp\;Daimon Doyle\, CGB<br />\n<br />\n<span style="color: rgb(71\, 73\, 75)\; font-family: Arial\; font-size: 12.1px\; line-height: 17.545px\; background-color: rgb(255\, 255\, 255)\;">6 CE\, National Association of Home Builders (</span>NAHB<span style="color: rgb(71\, 73\, 75)\; font-family: Arial\; font-size: 12.1px\; line-height: 17.545px\; background-color: rgb(255\, 255\, 255)\;">) ~&nbsp\;</span>NAHB<span style="color: rgb(71\, 73\, 75)\; font-family: Arial\; font-size: 12.1px\; line-height: 17.545px\; background-color: rgb(255\, 255\, 255)\;">&nbsp\;6.0 CE\, American Institute of Architects (AIA)/ (HSW)/ (SD) ~&nbsp\;</span>NAHB<span style="color: rgb(71\, 73\, 75)\; font-family: Arial\; font-size: 12.1px\; line-height: 17.545px\; background-color: rgb(255\, 255\, 255)\;">&nbsp\;6 CE\, American Institute of Building Design (</span>AIBD<span style="color: rgb(71\, 73\, 75)\; font-family: Arial\; font-size: 12.1px\; line-height: 17.545px\; background-color: rgb(255\, 255\, 255)\;">)</span></div>\n
LOCATION:MBA Pierce Office (1120 Pacific Ave\, Ste 301\, Tacoma)
UID:e.9280.83
SEQUENCE:3
DTSTAMP:20260423T084246Z
URL:https://members.masterbuilderspierce.com/events/details/cancelled-business-management-for-building-professionals-2-19-2016-02-19-2016-83
END:VEVENT

END:VCALENDAR
