BEGIN:VCALENDAR
VERSION:2.0
PRODID:-//ChamberMaster//Event Calendar 2.0//EN
METHOD:PUBLISH
X-PUBLISHED-TTL:P3D
REFRESH-INTERVAL:P3D
CALSCALE:GREGORIAN
BEGIN:VEVENT
DTSTART:20170404T213000Z
DTEND:20170404T233000Z
X-MICROSOFT-CDO-ALLDAYEVENT:FALSE
SUMMARY:CANCELED: PR Committee Meeting
DESCRIPTION:The PR Committee strives to enhance a positive awareness of the MBA\, provides timely and relevant communication to members and the media\, organize and supports community outreach programs. Reviews General Membership Meeting content. Meetings are held the first Tuesday of every month at 2:30 pm at the MBA Pierce office.
X-ALT-DESC;FMTTYPE=text/html:<p style="box-sizing: border-box\; margin: 0px 0px 10px\; font-family: Calibri\, Verdana\, Geneva\, sans-serif\; font-size: 16px\;">The PR Committee strives to enhance a positive awareness of the MBA\, provides timely and relevant communication to members and the media\, organize and supports community outreach programs. Reviews General Membership Meeting content. Meetings are held the first Tuesday of every month at 2:30 pm at the MBA Pierce office.</p>\n
LOCATION:Keller Williams Realty Tacoma 7525 28th ST W University Place
UID:e.9280.1853
SEQUENCE:3
DTSTAMP:20260422T112757Z
URL:https://members.masterbuilderspierce.com/events/details/canceled-pr-committee-meeting-1853
END:VEVENT

END:VCALENDAR
