BEGIN:VCALENDAR
VERSION:2.0
PRODID:-//ChamberMaster//Event Calendar 2.0//EN
METHOD:PUBLISH
X-PUBLISHED-TTL:P3D
REFRESH-INTERVAL:P3D
CALSCALE:GREGORIAN
BEGIN:VEVENT
DTSTART:20171207T230000Z
DTEND:20171208T000000Z
X-MICROSOFT-CDO-ALLDAYEVENT:FALSE
SUMMARY:CANCELED-Membership & Spike Committee Meeting
DESCRIPTION:
X-ALT-DESC;FMTTYPE=text/html:
LOCATION:MBA Office 3711 Center Street Tacoma\, WA 98409
UID:e.9280.1401
SEQUENCE:3
DTSTAMP:20260421T230734Z
URL:https://members.masterbuilderspierce.com/events/details/canceled-membership-spike-committee-meeting-1401
END:VEVENT

END:VCALENDAR
