BEGIN:VCALENDAR
VERSION:2.0
PRODID:-//ChamberMaster//Event Calendar 2.0//EN
METHOD:PUBLISH
X-PUBLISHED-TTL:P3D
REFRESH-INTERVAL:P3D
CALSCALE:GREGORIAN
BEGIN:VEVENT
DTSTART:20160406T150000Z
DTEND:20160406T200000Z
X-MICROSOFT-CDO-ALLDAYEVENT:FALSE
SUMMARY:CANCEL-CPR/First Aid Class (4/6/2016)
DESCRIPTION:This Medic First Aid course includes assessment of airway\, breathing and circulation techniques\, use of protective barriers\, and automated external defibrillation training.  "Hands On" CPR exercises included.  Meets state law requirements. Certificate valid for 2 years.\n\n \n\nApproved for Electrical and Plumbing CEU Credits
X-ALT-DESC;FMTTYPE=text/html:<span style="font-size:14px\;">This Medic First Aid course includes assessment of airway\, breathing and circulation techniques\, use of protective barriers\, and automated external defibrillation training.&nbsp\; &ldquo\;Hands On&rdquo\; CPR exercises included.&nbsp\; Meets state law requirements. Certificate valid for 2 years.<br />\n&nbsp\;<br />\n<strong><em>Approved for Electrical and Plumbing CEU Credits</em></strong></span>
LOCATION:MBA Pierce Office (1120 Pacific Ave\, Ste 301\, Tacoma)
UID:e.9280.63
SEQUENCE:3
DTSTAMP:20260423T070019Z
URL:https://members.masterbuilderspierce.com/events/details/cancel-cpr-first-aid-class-4-6-2016-04-06-2016-63
END:VEVENT

END:VCALENDAR
