BEGIN:VCALENDAR
VERSION:2.0
PRODID:-//ChamberMaster//Event Calendar 2.0//EN
METHOD:PUBLISH
X-PUBLISHED-TTL:P3D
REFRESH-INTERVAL:P3D
CALSCALE:GREGORIAN
BEGIN:VEVENT
DTSTART:20170512T150000Z
DTEND:20170512T200000Z
X-MICROSOFT-CDO-ALLDAYEVENT:FALSE
SUMMARY:CANCEL-Confined Space Training-Residential & Commercial
DESCRIPTION:Confined Space Training * Residential & Commercial\n\nWAC 296-809 Compliant\n\n\n\nSupervisor\, Attendant\, and Entrant Training is required before assignment to work in confined spaces\, or when there is a change in assigned duties or confined space hazard for which specific training has not been covered.\n\n\n\n** Identifying permit requirements for confined spaces? Atmospheric/engulfment/safety hazards\n\n** Monitoring Equipment Required and Use\n\n** Permit Program\n\n** Duties of Supervisors\, Entrants\, and Attendants\n\n** Multi-employer worksite communication\n\n** Rescue Services\n\n\n\nContractors who send their teams into certain crawl spaces and attic applications need all aspects of this training to be in compliance with WAC 296-809. \n\n\n\nInstructor\, Kris Alberti\, CAPs\, CGP ~ 5 Hours
X-ALT-DESC;FMTTYPE=text/html:<h4 id="Content1_lblClassTitle" style="margin-top: 0.5em\; margin-bottom: 0.5em\; font-size: large\; color: rgb(71\, 73\, 75)\; font-family: Arial\; background-color: rgb(255\, 255\, 255)\;">Confined Space Training * Residential &amp\; Commercial</h4>\n\n<div id="Content1_lblClassDescription" style="color: rgb(71\, 73\, 75)\; font-family: Arial\; font-size: 12.1px\; background-color: rgb(255\, 255\, 255)\;">WAC 296-809 Compliant<br />\n<br />\nSupervisor\, Attendant\, and Entrant Training is required before assignment to work in confined spaces\, or when there is a change in assigned duties or confined space hazard for which specific training has not been covered.<br />\n<br />\n** Identifying permit requirements for confined spaces? Atmospheric/engulfment/safety hazards<br />\n** Monitoring Equipment Required and Use<br />\n** Permit Program<br />\n** Duties of Supervisors\, Entrants\, and Attendants<br />\n** Multi-employer worksite communication<br />\n** Rescue Services<br />\n<br />\nContractors who send their teams into certain crawl spaces and attic applications need all aspects of this training to be in compliance with WAC 296-809.&nbsp\;<br />\n<br />\nInstructor\, Kris Alberti\, CAPs\, CGP ~ 5 Hours</div>\n
LOCATION:MBA of Pierce County 3711 Center St Tacoma\, WA 98409
UID:e.9280.1802
SEQUENCE:3
DTSTAMP:20260422T100634Z
URL:https://members.masterbuilderspierce.com/events/details/cancel-confined-space-training-residential-commercial-1802
END:VEVENT

END:VCALENDAR
