BEGIN:VCALENDAR
VERSION:2.0
PRODID:-//ChamberMaster//Event Calendar 2.0//EN
METHOD:PUBLISH
X-PUBLISHED-TTL:P3D
REFRESH-INTERVAL:P3D
CALSCALE:GREGORIAN
BEGIN:VEVENT
DTSTART:20170908T150000Z
DTEND:20170909T000000Z
X-MICROSOFT-CDO-ALLDAYEVENT:FALSE
SUMMARY:Business Management for Building Professionals
DESCRIPTION:Business Management for Building Professionals\n\n6 CE\, National Association of Home Builders (NAHB) ~ NAHB\n\n6.0 CE\, American Institute of Architects (AIA)/ (HSW)/ (SD) ~ NAHB\n\n6 CE\, American Institute of Building Design (AIBD) ~ NAHB\n\n\n\nLearn the management skills that give industry leaders the edge. This course will give you a solid foundation for managing small to medium size building/remodeling and service companies. This course explains critical elements from planning to evaluating progress and presents practical tips and tools for managing a business successfully. You'll get a solid grasp of business best practices and practical tools of value whether you are a new or experienced business owner. As a graduate of this course\, you will be able to: * Identify common business challenges and ways to overcome them. * Describe the three basic functional areas of a business. * Describe how to plan effectively for achieving business success. * Describe the organization and processes that a company needs to have in place to run efficiently.* Identify methods for recruiting\, interviewing\, training and retaining quality personnel.* Identify performance tools to help you achieve success.* Identify methods for evaluating your progress. \n\n\n\nInstructors: Dale Armstrong\, CGB\, Kris Alberti\, CGP\, CAPS\, Daimon Doyle\, CGB\, Joe Irons\, CGR\, GMB\, CAPS\, CGP\, GMR
X-ALT-DESC;FMTTYPE=text/html:<h4 id="Content1_lblClassTitle" style="margin-top: 0.5em\; margin-bottom: 0.5em\; font-size: large\; color: rgb(71\, 73\, 75)\; font-family: Arial\; background-color: rgb(255\, 255\, 255)\;">Business Management for Building Professionals</h4>\n\n<div id="Content1_lblClassDescription" style="color: rgb(71\, 73\, 75)\; font-family: Arial\; font-size: 12.1px\; background-color: rgb(255\, 255\, 255)\;">6 CE\, National Association of Home Builders (NAHB) ~ NAHB<br />\n6.0 CE\, American Institute of Architects (AIA)/ (HSW)/ (SD) ~ NAHB<br />\n6 CE\, American Institute of Building Design (AIBD) ~ NAHB<br />\n<br />\nLearn the management skills that give industry leaders the edge. This course will give you a solid foundation for managing small to medium size building/remodeling and service companies. This course explains critical elements from planning to evaluating progress and presents practical tips and tools for managing a business successfully. You&rsquo\;ll get a solid grasp of business best practices and practical tools of value whether you are a new or experienced business owner. As a graduate of this course\, you will be able to: * Identify common business challenges and ways to overcome them. * Describe the three basic functional areas of a business. * Describe how to plan effectively for achieving business success. * Describe the organization and processes that a company needs to have in place to run efficiently.* Identify methods for recruiting\, interviewing\, training and retaining quality personnel.* Identify performance tools to help you achieve success.* Identify methods for evaluating your progress.&nbsp\;<br />\n<br />\nInstructors: Dale Armstrong\, CGB\, Kris Alberti\, CGP\, CAPS\, Daimon Doyle\, CGB\, Joe Irons\, CGR\, GMB\, CAPS\, CGP\, GMR</div>\n
LOCATION:MBA of Pierce County 3711 Center St Tacoma\, WA 98409
UID:e.9280.1807
SEQUENCE:3
DTSTAMP:20260422T052407Z
URL:https://members.masterbuilderspierce.com/events/details/business-management-for-building-professionals-1807
END:VEVENT

END:VCALENDAR
