BEGIN:VCALENDAR
VERSION:2.0
PRODID:-//ChamberMaster//Event Calendar 2.0//EN
METHOD:PUBLISH
X-PUBLISHED-TTL:P3D
REFRESH-INTERVAL:P3D
CALSCALE:GREGORIAN
BEGIN:VEVENT
DTSTART:20151119T020000Z
DTEND:20151118T200000Z
X-MICROSOFT-CDO-ALLDAYEVENT:FALSE
SUMMARY:Builders Group Meeting
DESCRIPTION:
X-ALT-DESC;FMTTYPE=text/html:
LOCATION:1901 S 72nd St Ste C-39 Tacoma\, WA 98408
UID:e.9280.24
SEQUENCE:3
DTSTAMP:20260423T135639Z
URL:https://members.masterbuilderspierce.com/events/details/builders-group-meeting-11-18-2015-24
END:VEVENT

END:VCALENDAR
