BEGIN:VCALENDAR
VERSION:2.0
PRODID:-//ChamberMaster//Event Calendar 2.0//EN
METHOD:PUBLISH
X-PUBLISHED-TTL:P3D
REFRESH-INTERVAL:P3D
CALSCALE:GREGORIAN
BEGIN:VEVENT
DTSTART:20170215T013000Z
DTEND:20170215T033000Z
X-MICROSOFT-CDO-ALLDAYEVENT:FALSE
SUMMARY:Board of Directors Meeting (Jan 2016)
DESCRIPTION:MBA Pierce Board of Directors Meeting
X-ALT-DESC;FMTTYPE=text/html:MBA Pierce Board of Directors Meeting
LOCATION:TBD
UID:e.9280.1790
SEQUENCE:3
DTSTAMP:20260422T143555Z
URL:https://members.masterbuilderspierce.com/events/details/board-of-directors-meeting-jan-2016-1790
END:VEVENT

END:VCALENDAR
