BEGIN:VCALENDAR
VERSION:2.0
PRODID:-//ChamberMaster//Event Calendar 2.0//EN
METHOD:PUBLISH
X-PUBLISHED-TTL:P3D
REFRESH-INTERVAL:P3D
CALSCALE:GREGORIAN
BEGIN:VEVENT
DTSTART:20160914T003000Z
DTEND:20160914T023000Z
X-MICROSOFT-CDO-ALLDAYEVENT:FALSE
SUMMARY:Board of Directors Meeting (9/13/2016)
DESCRIPTION:September Board of Directors Meeting
X-ALT-DESC;FMTTYPE=text/html:September Board of Directors Meeting
LOCATION:MBA Pierce 1120 Pacific Ave\, Ste 301 Tacoma\, WA 98402
UID:e.9280.1382
SEQUENCE:3
DTSTAMP:20260422T215633Z
URL:https://members.masterbuilderspierce.com/events/details/board-of-directors-meeting-9-13-2016-1382
END:VEVENT

END:VCALENDAR
