BEGIN:VCALENDAR
VERSION:2.0
PRODID:-//ChamberMaster//Event Calendar 2.0//EN
METHOD:PUBLISH
X-PUBLISHED-TTL:P3D
REFRESH-INTERVAL:P3D
CALSCALE:GREGORIAN
BEGIN:VEVENT
DTSTART:20160511T003000Z
DTEND:20160511T023000Z
X-MICROSOFT-CDO-ALLDAYEVENT:FALSE
SUMMARY:Board of Directors Meeting (5/10/2016)
DESCRIPTION:
X-ALT-DESC;FMTTYPE=text/html:
LOCATION:MBA Pierce 1120 Pacific Ave\, Ste 301 Tacoma\, WA 98402
UID:e.9280.1359
SEQUENCE:3
DTSTAMP:20260423T041110Z
URL:https://members.masterbuilderspierce.com/events/details/board-of-directors-meeting-5-10-2016-05-10-2016-1359
END:VEVENT

END:VCALENDAR
