BEGIN:VCALENDAR
VERSION:2.0
PRODID:-//ChamberMaster//Event Calendar 2.0//EN
METHOD:PUBLISH
X-PUBLISHED-TTL:P3D
REFRESH-INTERVAL:P3D
CALSCALE:GREGORIAN
BEGIN:VEVENT
DTSTART:20190611T233000Z
DTEND:20190612T013000Z
X-MICROSOFT-CDO-ALLDAYEVENT:FALSE
SUMMARY:Board of Directors Meeting
DESCRIPTION:Board of Directors Meeting
X-ALT-DESC;FMTTYPE=text/html:Board of Directors Meeting
LOCATION:MBAPC Board Room 3711 Center St. Tacoma\, WA 98409
UID:e.9280.2210
SEQUENCE:3
DTSTAMP:20260421T111858Z
URL:https://members.masterbuilderspierce.com/events/details/board-of-directors-meeting-06-11-2019-2210
END:VEVENT

END:VCALENDAR
