BEGIN:VCALENDAR
VERSION:2.0
PRODID:-//ChamberMaster//Event Calendar 2.0//EN
METHOD:PUBLISH
X-PUBLISHED-TTL:P3D
REFRESH-INTERVAL:P3D
CALSCALE:GREGORIAN
BEGIN:VEVENT
DTSTART:20160210T013000Z
DTEND:20160210T033000Z
X-MICROSOFT-CDO-ALLDAYEVENT:FALSE
SUMMARY:Board of Directors Meeting
DESCRIPTION:
X-ALT-DESC;FMTTYPE=text/html:
LOCATION:MBA Pierce 1120 Pacific Ave\, Ste 301 Tacoma\, WA 98402
UID:e.9280.87
SEQUENCE:3
DTSTAMP:20260423T084006Z
URL:https://members.masterbuilderspierce.com/events/details/board-of-directors-meeting-02-09-2016-87
END:VEVENT

END:VCALENDAR
