BEGIN:VCALENDAR
VERSION:2.0
PRODID:-//ChamberMaster//Event Calendar 2.0//EN
METHOD:PUBLISH
X-PUBLISHED-TTL:P3D
REFRESH-INTERVAL:P3D
CALSCALE:GREGORIAN
BEGIN:VEVENT
DTSTART:20181018T153000Z
DTEND:20181018T173000Z
X-MICROSOFT-CDO-ALLDAYEVENT:FALSE
SUMMARY:Board meeting
DESCRIPTION:
X-ALT-DESC;FMTTYPE=text/html:
LOCATION:Ocean5 5268 Point Fosdick Dr NW Gig Harbor\, WA
UID:e.9280.3819
SEQUENCE:3
DTSTAMP:20260421T082528Z
URL:https://members.masterbuilderspierce.com/events/details/board-meeting-3819
END:VEVENT

END:VCALENDAR
