BEGIN:VCALENDAR
VERSION:2.0
PRODID:-//ChamberMaster//Event Calendar 2.0//EN
METHOD:PUBLISH
X-PUBLISHED-TTL:P3D
REFRESH-INTERVAL:P3D
CALSCALE:GREGORIAN
BEGIN:VEVENT
DTSTART:20190503T170000Z
DTEND:20190503T180000Z
X-MICROSOFT-CDO-ALLDAYEVENT:FALSE
SUMMARY:2019 REX Committee Meeting - May
DESCRIPTION:REX Committee Meeting
X-ALT-DESC;FMTTYPE=text/html:REX Committee Meeting
LOCATION:Signature Design & Cabinetry 911 Pacific Ave Tacoma\, WA 98402
UID:e.9280.3946
SEQUENCE:3
DTSTAMP:20260421T111551Z
URL:https://members.masterbuilderspierce.com/events/details/2019-rex-committee-meeting-may-3946
END:VEVENT

END:VCALENDAR
