BEGIN:VCALENDAR
VERSION:2.0
PRODID:-//ChamberMaster//Event Calendar 2.0//EN
METHOD:PUBLISH
X-PUBLISHED-TTL:P3D
REFRESH-INTERVAL:P3D
CALSCALE:GREGORIAN
BEGIN:VEVENT
DTSTART:20190522T003000Z
DTEND:20190522T040000Z
X-MICROSOFT-CDO-ALLDAYEVENT:FALSE
SUMMARY:2019 REX Awards (Remodeling Excellence)
DESCRIPTION:2019 REX Awards Presented by Contract Furnishings Mart\n\n\n\nJoin the celebration of the Remodeling Excellence Award Winners at the 22nd Annual MBA Pierce Remodelors Council REX Awards! This celebration will be held on Tuesday\, May 21 at Tin Can Alley in Tacoma. Cocktail attire.\n\n\n\nFor twenty two years\, the Remodelors Council has honored the best of the best in Pierce County and this year is no different! This event sold out last year\, be sure to get your spot reserved now.\n\n\n\nDEADLINE TO RSVP IS WEDNESDAY\, MAY 15\n\n\n\nSeating is at tables of 8. Your ticket includes appetizers\, dinner\, dessert and two beverage tickets. \n\n\n\nInterested in entering a project for consideration? \n\nEntry submissions are now being accepted! The deadline to enter projects is April 12\, 2019\, 4:30 p.m.\n\n\n\nClick here to download the entry packet.\n\n \n\n	\n		\n			CLICK HERE FOR REX AWARD DETAILS
X-ALT-DESC;FMTTYPE=text/html:<strong>2019 REX Awards Presented by Contract Furnishings Mart</strong><br />\n<br />\n<em>Join the celebration of the Remodeling Excellence Award Winners at the&nbsp\;<strong>22nd Annual MBA Pierce&nbsp\;Remodelors&nbsp\;Council REX Awards</strong>! This celebration will be held on Tuesday\, May 21 at Tin Can Alley in Tacoma. Cocktail attire.</em><br />\n<br />\n<em>For twenty two years\, the&nbsp\;Remodelors&nbsp\;Council has honored the best of the best in Pierce County and this year is no different! This event sold out last year\, be sure to get your spot reserved now.<br />\n<br />\n<strong>DEADLINE TO RSVP IS WEDNESDAY\, MAY 15</strong></em><br />\n<br />\nSeating is at tables of 8. Your ticket includes appetizers\, dinner\, dessert and two beverage tickets.&nbsp\;<br />\n<br />\n<strong>Interested in entering a project for consideration?&nbsp\;</strong><br />\nEntry submissions are now being accepted! The deadline to enter projects is <strong><em>April 12\, 2019\, 4:30 p.m.</em></strong><br />\n<br />\n<a href="https://chambermaster.blob.core.windows.net/userfiles/UserFiles/chambers/9280/CMS/PDF_Documents/REX_2019_Entry_Form.pdf" target="_blank">Click here to download the entry packet.</a><br />\n&nbsp\;\n<table align="left" border="1" cellpadding="1" cellspacing="1" style="width:300px\;">\n	<tbody>\n		<tr>\n			<td style="text-align: center\; background-color: rgb(0\, 0\, 0)\;"><a href="https://www.mbapierce.com/rex-2019"><span style="font-size:14px\;"><strong><span style="color:#FFF0F5\;">CLICK HERE FOR REX AWARD DETAILS</span></strong></span></a></td>\n		</tr>\n	</tbody>\n</table>\n<br />\n&nbsp\;
LOCATION:
UID:e.9280.3899
SEQUENCE:3
DTSTAMP:20260421T094524Z
URL:https://members.masterbuilderspierce.com/events/details/2019-rex-awards-remodeling-excellence-3899
END:VEVENT

END:VCALENDAR
