BEGIN:VCALENDAR
VERSION:2.0
PRODID:-//ChamberMaster//Event Calendar 2.0//EN
METHOD:PUBLISH
X-PUBLISHED-TTL:P3D
REFRESH-INTERVAL:P3D
CALSCALE:GREGORIAN
BEGIN:VEVENT
DTSTART;VALUE=DATE:20190613
DTEND;VALUE=DATE:20190614
TRANSP:TRANSPARENT
X-MICROSOFT-CDO-ALLDAYEVENT:TRUE
SUMMARY:2019 MBA Pierce Golf Classic Presented by Approach Management Services
DESCRIPTION:Join us for a trip Around the World at the 2019 Annual Golf Classic on June 13\, 2019 at High Cedars Golf Course! We'll provide your passport to discover 18 holes representing countries from around the world. \n\n\n\nRegistration begins at 8:00 a.m.\n\nShotgun Start at 9:30 a.m.\n\n\n\nRegistration includes Breakfast / Lunch / Dinner\, Cart Rental\, Drink Ticket\, Green Fees\, and a SWAG Bag. Sponsors will provide games\, freebies\, beverages and snacks. Sign up early to reserve your spot. Only 36 team spots available and only four (4) golfers per team. Space is limited\, no more than four (4) teams per company\, one team per registration form. Individuals may register and will be assigned to a team. Reminder that we will have several valuable raffle prizes up for grabs. For $20 you will get an arm's length of raffle tickets - $25 you'll get an extra arm's length! \n\n\n\nDon't wait\, spaces fill up fast\, complete below and mail or email to the MBA Office.\n\n\n\nThis year we are happy to announce we will be working with Nourish Pierce County. The mission of Nourish Pierce County is to provide nutritious food and support services for people in need with compassion\, dignity and respect. As an emergency service non-profit organization\, Nourish does not charge for any of their services. They rely on the gifts\, grants and donations from the community. Let's do our part to support this organization and their efforts!\n\n \n\nHow can you support? \n\n	We are donating 100 percent proceeds from Mulligans (second chance swing) directly to Nourish Pierce County! 4 mulligans are $20 and can be purchased at the tournament  \n	FOOD DRIVE: BRING A DONATION ITEM TO THE TOURNAMENT (SEE LIST BELOW) AND GET HALF OFF THE MULLIGAN PRICE!  YES\, HALF OFF!\n\nAbout Nourish Pierce County: \n\n\n	The largest\, oldest network of food banks directly serving people in the county\n	Served food to nearly 61\,000 county residents in 2018 (7% of the population)\n	Serves anyone in need - 1 in 3 of their clients are children and 17% are seniors\n\n \n\nFor more information\, visit their website at https://nourishpc.org.\n\n \n\nFood Drive Items to Bring: \n\n(Canned\, boxed or plastic containers please)\n\nSoup\, cereal\, canned fruit\, peanut butter\, canned vegetables\, canned tuna or chicken\, chili or stew with meat\, baby food\, infant formula\, soap\, diapers\, shampoo\, toilet paper\, toothpaste\, toothbrushes\, laundry detergent\, combs and hair brushes\, & feminine hygiene products.\n\n\n\n\n\n\n\n**If you are a sponsor who will be serving any kind of alcohol you MUST have a MAST Class 12 permit. This is something you can do online by clicking here.
X-ALT-DESC;FMTTYPE=text/html:Join us for a trip <em>Around the World</em> at the 2019 Annual Golf Classic on June 13\, 2019 at High Cedars Golf Course! We&#39\;ll provide your passport to discover 18 holes representing countries from around the world.&nbsp\;<br />\n<br />\nRegistration begins at 8:00 a.m.<br />\nShotgun Start at 9:30 a.m.<br />\n<br />\nRegistration includes Breakfast / Lunch / Dinner\, Cart Rental\, Drink Ticket\, Green Fees\, and a SWAG Bag. Sponsors will provide games\, freebies\, beverages and snacks. Sign up early to reserve your spot. Only 36 team spots available and only four (4) golfers per team. Space is limited\, no more than four (4) teams per company\, one team per registration form. Individuals may register and will be assigned to a team. Reminder that we will have several valuable raffle prizes up for grabs. For $20 you will get an arm&#39\;s length of raffle tickets - $25 you&#39\;ll get an extra arm&#39\;s length!&nbsp\;<br />\n<br />\nDon&#39\;t wait\, spaces fill up fast\, complete below and mail or email to the MBA Office.<br />\n<br />\nThis year we are happy to announce we will be working with <a href="https://nourishpc.org/">Nourish Pierce County</a>.&nbsp\;The mission of Nourish Pierce County is to provide nutritious food and support services for people in need with compassion\, dignity and respect. As an emergency service non-profit organization\, Nourish does not charge for any of their services. They rely on the gifts\, grants and donations from the community. Let&#39\;s do our part to support this organization and their efforts!<br />\n&nbsp\;<br />\n<strong>How can you support? </strong>\n<ul>\n	<li style="margin-left:0in\;">We are donating 100 percent proceeds from Mulligans (second chance swing) directly to Nourish Pierce County!&nbsp\;4 mulligans are $20 and can be purchased at the tournament &nbsp\;</li>\n	<li style="margin-left:0in\;">FOOD DRIVE:&nbsp\;<span style="font-family:calibri\,sans-serif\;"><span style="font-size:11.0pt\;">BRING A DONATION ITEM TO THE TOURNAMENT (SEE LIST BELOW) AND GET HALF OFF THE MULLIGAN PRICE!&nbsp\; YES\, HALF OFF!</span></span></li>\n</ul>\n<strong>About Nourish Pierce County: </strong>\n\n<ul>\n	<li style="margin-left:0in\;">The largest\, oldest network of food banks directly serving people in the county</li>\n	<li style="margin-left:0in\;">Served food to nearly 61\,000 county residents in 2018 (7% of the population)</li>\n	<li style="margin-left:0in\;">Serves anyone in need -&nbsp\;1 in 3 of their clients are children and 17% are seniors</li>\n</ul>\n&nbsp\;<br />\nFor more information\, visit their website at <a href="https://nourishpc.org">https://nourishpc.org</a>.<br />\n&nbsp\;<br />\n<strong><u>Food Drive Items to Bring: </u></strong><br />\n(Canned\, boxed or plastic containers please)<br />\nSoup\, cereal\, canned fruit\, peanut butter\, canned vegetables\, canned tuna or chicken\, chili or stew with meat\, baby food\, infant formula\, soap\, diapers\, shampoo\, toilet paper\, toothpaste\, toothbrushes\, laundry detergent\, combs and hair brushes\, &amp\; feminine hygiene products.<br />\n<br />\n<br />\n<br />\n**If you are a sponsor who will be serving any kind of alcohol you MUST have a MAST Class 12 permit. This is something you can do online by <a href="https://lcb.wa.gov/mastrvp/mandatory_alcohol_server_training#get_an_alcohol_server">clicking here.</a>
LOCATION:High Cedars Golf Course 14604 149th St Ct E Orting\, WA 98360
UID:e.9280.3900
SEQUENCE:3
DTSTAMP:20260421T124326Z
URL:https://members.masterbuilderspierce.com/events/details/2019-mba-pierce-golf-classic-presented-by-approach-management-services-3900
END:VEVENT

END:VCALENDAR
