BEGIN:VCALENDAR
VERSION:2.0
PRODID:-//ChamberMaster//Event Calendar 2.0//EN
METHOD:PUBLISH
X-PUBLISHED-TTL:P3D
REFRESH-INTERVAL:P3D
CALSCALE:GREGORIAN
BEGIN:VEVENT
DTSTART:20190611T220000Z
DTEND:20190611T230000Z
X-MICROSOFT-CDO-ALLDAYEVENT:FALSE
SUMMARY:2019 MBA Pierce Golf Classic Committee Meeting - June
DESCRIPTION:Golf Committee
X-ALT-DESC;FMTTYPE=text/html:Golf Committee&nbsp\;
LOCATION:MBA Pierce 3711 Center Street Tacoma\, WA 98409
UID:e.9280.3954
SEQUENCE:3
DTSTAMP:20260421T111858Z
URL:https://members.masterbuilderspierce.com/events/details/2019-mba-pierce-golf-classic-committee-meeting-june-3954
END:VEVENT

END:VCALENDAR
