BEGIN:VCALENDAR
VERSION:2.0
PRODID:-//ChamberMaster//Event Calendar 2.0//EN
METHOD:PUBLISH
X-PUBLISHED-TTL:P3D
REFRESH-INTERVAL:P3D
CALSCALE:GREGORIAN
BEGIN:VEVENT
DTSTART:20190806T173000Z
DTEND:20190807T063000Z
X-MICROSOFT-CDO-ALLDAYEVENT:FALSE
SUMMARY:2019 Design Professionals Council Steering Committee - August
DESCRIPTION:Design Professionals Council Steering Committee
X-ALT-DESC;FMTTYPE=text/html:Design Professionals Council Steering Committee
LOCATION:MBA Pierce Office 3711 Center Street Tacoma\, WA 98409
UID:e.9280.3968
SEQUENCE:3
DTSTAMP:20260421T124341Z
URL:https://members.masterbuilderspierce.com/events/details/2019-design-professionals-council-steering-committee-august-3968
END:VEVENT

END:VCALENDAR
